{
 "currentVersion": 10.81,
 "serviceDescription": "Lidar/IE_GSI_LiDAR_DTM_HS_GSI_DCHG_DP_MS_IE26_ITM_MH_TIFF",
 "name": "Lidar/IE_GSI_LiDAR_DTM_HS_GSI_DCHG_DP_MS_IE26_ITM_MH_TIFF",
 "description": "",
 "extent": {
  "xmin": 424358.4239329591,
  "ymin": 560332.4086843571,
  "xmax": 709925.623932959,
  "ymax": 830829.2086843571,
  "spatialReference": {
   "wkid": 2157,
   "latestWkid": 2157
  }
 },
 "initialExtent": {
  "xmin": 424358.4239329591,
  "ymin": 560332.4086843571,
  "xmax": 709925.623932959,
  "ymax": 830829.2086843571,
  "spatialReference": {
   "wkid": 2157,
   "latestWkid": 2157
  }
 },
 "fullExtent": {
  "xmin": 424358.4239329591,
  "ymin": 560332.4086843571,
  "xmax": 709925.623932959,
  "ymax": 830829.2086843571,
  "spatialReference": {
   "wkid": 2157,
   "latestWkid": 2157
  }
 },
 "pixelSizeX": 0.09999999999999998,
 "pixelSizeY": 0.10000000000000002,
 "datasetFormat": "AMD",
 "uncompressedSize": 7724501378496,
 "blockWidth": 2048,
 "blockHeight": 256,
 "compressionType": "None",
 "bandNames": [
  "Band_1"
 ],
 "allowCopy": true,
 "allowAnalysis": true,
 "bandCount": 1,
 "pixelType": "U8",
 "minPixelSize": 0.6614596562526459,
 "maxPixelSize": 1058.3354500042335,
 "copyrightText": "",
 "serviceDataType": "esriImageServiceDataTypeGeneric",
 "serviceSourceType": "esriImageServiceSourceTypeMosaicDataset",
 "minValues": [
  0
 ],
 "maxValues": [
  255
 ],
 "meanValues": [
  117.35281069776285
 ],
 "stdvValues": [
  29.30031547066584
 ],
 "objectIdField": "OBJECTID",
 "fields": [
  {
   "name": "OBJECTID",
   "type": "esriFieldTypeOID",
   "alias": "OBJECTID",
   "domain": null
  },
  {
   "name": "NAME",
   "type": "esriFieldTypeString",
   "alias": "NAME",
   "domain": null,
   "length": 200
  },
  {
   "name": "MINPS",
   "type": "esriFieldTypeDouble",
   "alias": "MINPS",
   "domain": null
  },
  {
   "name": "MAXPS",
   "type": "esriFieldTypeDouble",
   "alias": "MAXPS",
   "domain": null
  },
  {
   "name": "LOWPS",
   "type": "esriFieldTypeDouble",
   "alias": "LOWPS",
   "domain": null
  },
  {
   "name": "HIGHPS",
   "type": "esriFieldTypeDouble",
   "alias": "HIGHPS",
   "domain": null
  },
  {
   "name": "CATEGORY",
   "type": "esriFieldTypeInteger",
   "alias": "CATEGORY",
   "domain": {
    "type": "codedValue",
    "name": "MosaicCatalogItemCategoryDomain",
    "description": "Catalog item categories.",
    "codedValues": [
     {
      "name": "Unknown",
      "code": 0
     },
     {
      "name": "Primary",
      "code": 1
     },
     {
      "name": "Overview",
      "code": 2
     },
     {
      "name": "Unprocessed Overview",
      "code": 3
     },
     {
      "name": "Partial Overview",
      "code": 4
     },
     {
      "name": "Inactive",
      "code": 5
     },
     {
      "name": "Uploaded",
      "code": 253
     },
     {
      "name": "Incomplete",
      "code": 254
     },
     {
      "name": "Custom",
      "code": 255
     }
    ],
    "mergePolicy": "esriMPTDefaultValue",
    "splitPolicy": "esriSPTDefaultValue"
   }
  },
  {
   "name": "TAG",
   "type": "esriFieldTypeString",
   "alias": "TAG",
   "domain": null,
   "length": 100
  },
  {
   "name": "GROUPNAME",
   "type": "esriFieldTypeString",
   "alias": "GROUPNAME",
   "domain": null,
   "length": 100
  },
  {
   "name": "PRODUCTNAME",
   "type": "esriFieldTypeString",
   "alias": "PRODUCTNAME",
   "domain": null,
   "length": 100
  },
  {
   "name": "CENTERX",
   "type": "esriFieldTypeDouble",
   "alias": "CENTERX",
   "domain": null
  },
  {
   "name": "CENTERY",
   "type": "esriFieldTypeDouble",
   "alias": "CENTERY",
   "domain": null
  },
  {
   "name": "ZORDER",
   "type": "esriFieldTypeInteger",
   "alias": "ZORDER",
   "domain": null
  },
  {
   "name": "THUMBNAIL",
   "type": "esriFieldTypeBlob",
   "alias": "THUMBNAIL",
   "domain": null
  },
  {
   "name": "SHAPE",
   "type": "esriFieldTypeGeometry",
   "alias": "SHAPE",
   "domain": null
  },
  {
   "name": "SHAPE.AREA",
   "type": "esriFieldTypeDouble",
   "alias": "SHAPE.AREA",
   "domain": null
  },
  {
   "name": "SHAPE.LEN",
   "type": "esriFieldTypeDouble",
   "alias": "SHAPE.LEN",
   "domain": null
  }
 ],
 "capabilities": "Image,Metadata,Catalog,Download",
 "defaultMosaicMethod": "Northwest",
 "allowedMosaicMethods": "NorthWest,Center,LockRaster,ByAttribute,Nadir,Viewpoint,Seamline,None",
 "sortField": "",
 "sortValue": null,
 "sortAscending": true,
 "mosaicOperator": "First",
 "maxDownloadSizeLimit": 2048,
 "defaultCompressionQuality": 75,
 "defaultResamplingMethod": "Bilinear",
 "maxImageHeight": 4100,
 "maxImageWidth": 15000,
 "maxRecordCount": 1000,
 "maxDownloadImageCount": 20,
 "maxMosaicImageCount": 20,
 "singleFusedMapCache": true,
 "tileInfo": {
  "rows": 256,
  "cols": 256,
  "dpi": 96,
  "format": "PNG",
  "compressionQuality": 0,
  "origin": {
   "x": -5022200,
   "y": 4821100
  },
  "spatialReference": {
   "wkid": 2157,
   "latestWkid": 2157
  },
  "lods": [
   {
    "level": 0,
    "resolution": 1058.3354500042335,
    "scale": 4000000
   },
   {
    "level": 1,
    "resolution": 661.4596562526459,
    "scale": 2500000
   },
   {
    "level": 2,
    "resolution": 330.72982812632296,
    "scale": 1250000
   },
   {
    "level": 3,
    "resolution": 158.75031750063502,
    "scale": 600000
   },
   {
    "level": 4,
    "resolution": 105.83354500042334,
    "scale": 400000
   },
   {
    "level": 5,
    "resolution": 52.91677250021167,
    "scale": 200000
   },
   {
    "level": 6,
    "resolution": 26.458386250105836,
    "scale": 100000
   },
   {
    "level": 7,
    "resolution": 13.229193125052918,
    "scale": 50000
   },
   {
    "level": 8,
    "resolution": 6.614596562526459,
    "scale": 25000
   },
   {
    "level": 9,
    "resolution": 2.6458386250105836,
    "scale": 10000
   },
   {
    "level": 10,
    "resolution": 1.3229193125052918,
    "scale": 5000
   },
   {
    "level": 11,
    "resolution": 0.6614596562526459,
    "scale": 2500
   },
   {
    "level": 12,
    "resolution": 0.26458386250105836,
    "scale": 1000
   }
  ]
 },
 "cacheType": "Map",
 "allowRasterFunction": true,
 "rasterFunctionInfos": [
  {
   "name": "None",
   "description": "A No-Op Function.",
   "help": ""
  }
 ],
 "rasterTypeInfos": [
  {
   "name": "Raster Dataset",
   "description": "Supports all ArcGIS Raster Datasets",
   "help": ""
  }
 ],
 "mensurationCapabilities": "None",
 "hasHistograms": true,
 "hasColormap": false,
 "hasRasterAttributeTable": false,
 "minScale": 4000000,
 "maxScale": 2500,
 "minLOD": 0,
 "maxLOD": 11,
 "exportTilesAllowed": false,
 "hasMultidimensions": false,
 "supportsStatistics": true,
 "supportsAdvancedQueries": true,
 "editFieldsInfo": null,
 "ownershipBasedAccessControlForRasters": null,
 "allowComputeTiePoints": false,
 "useStandardizedQueries": true,
 "advancedQueryCapabilities": {
  "useStandardizedQueries": true,
  "supportsStatistics": true,
  "supportsOrderBy": true,
  "supportsDistinct": true,
  "supportsPagination": true
 },
 "spatialReference": {
  "wkid": 2157,
  "latestWkid": 2157
 }
}
