{
 "currentVersion": 10.81,
 "serviceDescription": "Lidar/IE_GSI_LiDAR_DTM_HS_WMCoCo_25cm_Westmeath_ITM_MH_TIFF",
 "name": "Lidar/IE_GSI_LiDAR_DTM_HS_WMCoCo_25cm_Westmeath_ITM_MH_TIFF",
 "description": "",
 "extent": {
  "xmin": 626000,
  "ymin": 748000,
  "xmax": 632000,
  "ymax": 752000,
  "spatialReference": {
   "wkid": 2157,
   "latestWkid": 2157
  }
 },
 "initialExtent": {
  "xmin": 626000,
  "ymin": 748000,
  "xmax": 632000,
  "ymax": 752000,
  "spatialReference": {
   "wkid": 2157,
   "latestWkid": 2157
  }
 },
 "fullExtent": {
  "xmin": 626000,
  "ymin": 748000,
  "xmax": 632000,
  "ymax": 752000,
  "spatialReference": {
   "wkid": 2157,
   "latestWkid": 2157
  }
 },
 "pixelSizeX": 0.25,
 "pixelSizeY": 0.25,
 "datasetFormat": "SDR",
 "uncompressedSize": 384000000,
 "blockWidth": 128,
 "blockHeight": 128,
 "compressionType": "LZ77",
 "bandNames": [
  "Band_1"
 ],
 "allowCopy": true,
 "allowAnalysis": true,
 "bandCount": 1,
 "pixelType": "U8",
 "minPixelSize": 0.26458386250105836,
 "maxPixelSize": 1058.3354500042335,
 "copyrightText": "",
 "serviceDataType": "esriImageServiceDataTypeGeneric",
 "serviceSourceType": "esriImageServiceSourceTypeDataset",
 "minValues": [
  1
 ],
 "maxValues": [
  255
 ],
 "meanValues": [
  167.87439922207386
 ],
 "stdvValues": [
  58.100254786084285
 ],
 "objectIdField": "",
 "fields": [],
 "capabilities": "Image,Metadata,Mensuration",
 "defaultMosaicMethod": "Center",
 "allowedMosaicMethods": "",
 "sortField": "",
 "sortValue": null,
 "sortAscending": true,
 "mosaicOperator": "First",
 "defaultCompressionQuality": 75,
 "defaultResamplingMethod": "Bilinear",
 "maxImageHeight": 4100,
 "maxImageWidth": 15000,
 "singleFusedMapCache": true,
 "tileInfo": {
  "rows": 256,
  "cols": 256,
  "dpi": 96,
  "format": "PNG",
  "compressionQuality": 0,
  "origin": {
   "x": -5022200,
   "y": 4821100
  },
  "spatialReference": {
   "wkid": 2157,
   "latestWkid": 2157
  },
  "lods": [
   {
    "level": 0,
    "resolution": 1058.3354500042335,
    "scale": 4000000
   },
   {
    "level": 1,
    "resolution": 661.4596562526459,
    "scale": 2500000
   },
   {
    "level": 2,
    "resolution": 330.72982812632296,
    "scale": 1250000
   },
   {
    "level": 3,
    "resolution": 158.75031750063502,
    "scale": 600000
   },
   {
    "level": 4,
    "resolution": 105.83354500042334,
    "scale": 400000
   },
   {
    "level": 5,
    "resolution": 52.91677250021167,
    "scale": 200000
   },
   {
    "level": 6,
    "resolution": 26.458386250105836,
    "scale": 100000
   },
   {
    "level": 7,
    "resolution": 13.229193125052918,
    "scale": 50000
   },
   {
    "level": 8,
    "resolution": 6.614596562526459,
    "scale": 25000
   },
   {
    "level": 9,
    "resolution": 2.6458386250105836,
    "scale": 10000
   },
   {
    "level": 10,
    "resolution": 1.3229193125052918,
    "scale": 5000
   },
   {
    "level": 11,
    "resolution": 0.6614596562526459,
    "scale": 2500
   },
   {
    "level": 12,
    "resolution": 0.26458386250105836,
    "scale": 1000
   }
  ]
 },
 "cacheType": "Map",
 "allowRasterFunction": true,
 "rasterFunctionInfos": [
  {
   "name": "None",
   "description": "",
   "help": ""
  }
 ],
 "rasterTypeInfos": [
  {
   "name": "Raster Dataset",
   "description": "Supports all ArcGIS Raster Datasets",
   "help": ""
  }
 ],
 "mensurationCapabilities": "Basic",
 "hasHistograms": true,
 "hasColormap": false,
 "hasRasterAttributeTable": false,
 "minScale": 4000000,
 "maxScale": 1000,
 "minLOD": 0,
 "maxLOD": 12,
 "exportTilesAllowed": false,
 "hasMultidimensions": false,
 "supportsStatistics": false,
 "supportsAdvancedQueries": false,
 "editFieldsInfo": null,
 "ownershipBasedAccessControlForRasters": null,
 "allowComputeTiePoints": false,
 "useStandardizedQueries": true,
 "advancedQueryCapabilities": {
  "useStandardizedQueries": true,
  "supportsStatistics": false,
  "supportsOrderBy": false,
  "supportsDistinct": false,
  "supportsPagination": false
 },
 "spatialReference": {
  "wkid": 2157,
  "latestWkid": 2157
 }
}
