{ "currentVersion": 10.81, "serviceDescription": "

This Backscatter map shows how hard or soft the seabed is in Irish waters. The seabed in Ireland\u2019s inshore area is between 0 and 200 metres deep. The data was collected from 1996 to 2002. <\/SPAN><\/P>
Bathymetry is the measurement of how deep is the sea. Bathymetry is the study of the shape and features of the seabed. The name comes from Greek words meaning \"deep\" and \u201cmeasure\". Backscatter is the measurement of how hard is the seabed is. <\/SPAN><\/P>
Bathymetry and backscatter data are collected on board boats working at sea. The boats use special equipment called a multibeam echosounder. A multibeam echosounder is a type of sonar that is used to map the seabed. Sound waves are emitted in a fan shape beneath the boat. The amount of time it takes for the sound waves to bounce off the bottom of the sea and return to a receiver is used to determine water depth. The strength of the sound wave is used to determine how hard the bottom of the sea is. A strong sound wave indicates a hard surface (rocks, gravel), and a weak signal indicates a soft surface (silt, mud). The word backscatter comes from the fact that different bottom types \u201cscatter\u201d sound waves differently. <\/SPAN><\/P>
The data are collected as points in XYZ format. X and Y coordinates, Z (depth) and backscatter value. The boat travels up and down the water in a series of lines (trackline). An XYZ file is created for each line and contains thousands of points. The line files are merged together and converted into gridded data to create a Digital Terrain Model of the seabed. <\/SPAN><\/P>
This is a raster dataset. Raster data stores information in a cell-based manner and consists of a matrix of cells (or pixels) organised into rows and columns. The format of the raster is an image (GeoTIFF). The image cell size is 40m by 40m. This means that each cell (pixel) represents an area on the seabed of 40 metres squared. The map is coloured using grey shades. The darker shading represents a hard seabed (e.g. rock) and lighter shading represents a soft seabed (e.g. sand, silt or mud). <\/SPAN><\/P>
This data shows areas that have been surveyed. There are plans to fill in the missing areas between 2020 and 2026. The deeper offshore waters were mapped as part of the Irish National Seabed Survey (INSS) between 1999 and 2005. INtegrated Mapping FOr the Sustainable Development of Ireland's MArine Resource (INFOMAR) is mapping the inshore areas. (2006 - 2026).<\/SPAN><\/P><\/DIV><\/DIV><\/DIV>", "name": "Marine/IE_GSI_MI_Backscatter_40m_Offshore_IE_WGS84_LAT_TIFF", "description": "

This Backscatter map shows how hard or soft the seabed is in Irish waters. The seabed in Ireland\u2019s inshore area is between 0 and 200 metres deep. The data was collected from 1996 to 2002. <\/SPAN><\/P>
Bathymetry is the measurement of how deep is the sea. Bathymetry is the study of the shape and features of the seabed. The name comes from Greek words meaning \"deep\" and \u201cmeasure\". Backscatter is the measurement of how hard is the seabed is. <\/SPAN><\/P>
Bathymetry and backscatter data are collected on board boats working at sea. The boats use special equipment called a multibeam echosounder. A multibeam echosounder is a type of sonar that is used to map the seabed. Sound waves are emitted in a fan shape beneath the boat. The amount of time it takes for the sound waves to bounce off the bottom of the sea and return to a receiver is used to determine water depth. The strength of the sound wave is used to determine how hard the bottom of the sea is. A strong sound wave indicates a hard surface (rocks, gravel), and a weak signal indicates a soft surface (silt, mud). The word backscatter comes from the fact that different bottom types \u201cscatter\u201d sound waves differently. <\/SPAN><\/P>
The data are collected as points in XYZ format. X and Y coordinates, Z (depth) and backscatter value. The boat travels up and down the water in a series of lines (trackline). An XYZ file is created for each line and contains thousands of points. The line files are merged together and converted into gridded data to create a Digital Terrain Model of the seabed. <\/SPAN><\/P>
This is a raster dataset. Raster data stores information in a cell-based manner and consists of a matrix of cells (or pixels) organised into rows and columns. The format of the raster is an image (GeoTIFF). The image cell size is 40m by 40m. This means that each cell (pixel) represents an area on the seabed of 40 metres squared. The map is coloured using grey shades. The darker shading represents a hard seabed (e.g. rock) and lighter shading represents a soft seabed (e.g. sand, silt or mud). <\/SPAN><\/P>
This data shows areas that have been surveyed. There are plans to fill in the missing areas between 2020 and 2026. The deeper offshore waters were mapped as part of the Irish National Seabed Survey (INSS) between 1999 and 2005. INtegrated Mapping FOr the Sustainable Development of Ireland's MArine Resource (INFOMAR) is mapping the inshore areas. (2006 - 2026).<\/SPAN><\/P><\/DIV><\/DIV><\/DIV>", "extent": { "xmin": -25.420383911500096, "ymin": 46.674615581697914, "xmax": -4.7501774780077, "ymax": 58.36121145519531, "spatialReference": { "wkid": 4326, "latestWkid": 4326, "vcsWkid": 5861, "latestVcsWkid": 5861 } }, "initialExtent": { "xmin": -25.420383911500096, "ymin": 46.674615581697914, "xmax": -4.7501774780077, "ymax": 58.36121145519531, "spatialReference": { "wkid": 4326, "latestWkid": 4326, "vcsWkid": 5861, "latestVcsWkid": 5861 } }, "fullExtent": { "xmin": -25.420383911500096, "ymin": 46.674615581697914, "xmax": -4.7501774780077, "ymax": 58.36121145519531, "spatialReference": { "wkid": 4326, "latestWkid": 4326, "vcsWkid": 5861, "latestVcsWkid": 5861 } }, "heightModelInfo": { "heightModel": "gravity_related_height", "vertCRS": "LAT_Depth", "heightUnit": "meter" }, "pixelSizeX": 4.5155117165091745E-4, "pixelSizeY": 4.515511716509175E-4, "datasetFormat": "FGDBR", "uncompressedSize": 3554185968, "blockWidth": 128, "blockHeight": 128, "compressionType": "NONE", "bandNames": [ "Band_1", "Band_2", "Band_3" ], "allowCopy": true, "allowAnalysis": true, "bandCount": 3, "pixelType": "U8", "minPixelSize": 0, "maxPixelSize": 0, "copyrightText": "Geological Survey Ireland & Marine Institute", "serviceDataType": "esriImageServiceDataTypeRGB", "serviceSourceType": "esriImageServiceSourceTypeDataset", "minValues": [ 0, 0, 0 ], "maxValues": [ 254, 254, 254 ], "meanValues": [ 116.93262226539555, 116.93262226539555, 116.93262226539555 ], "stdvValues": [ 21.159627604587936, 21.159627604587936, 21.159627604587936 ], "objectIdField": "", "fields": [], "capabilities": "Image,Metadata,Mensuration", "defaultMosaicMethod": "Center", "allowedMosaicMethods": "", "sortField": "", "sortValue": null, "sortAscending": true, "mosaicOperator": "First", "defaultCompressionQuality": 75, "defaultResamplingMethod": "Bilinear", "maxImageHeight": 4100, "maxImageWidth": 15000, "allowRasterFunction": true, "rasterFunctionInfos": [ { "name": "None", "description": "", "help": "" } ], "rasterTypeInfos": [ { "name": "Raster Dataset", "description": "Supports all ArcGIS Raster Datasets", "help": "" } ], "mensurationCapabilities": "Basic", "hasHistograms": true, "hasColormap": false, "hasRasterAttributeTable": false, "minScale": 0, "maxScale": 0, "exportTilesAllowed": false, "hasMultidimensions": false, "supportsStatistics": false, "supportsAdvancedQueries": false, "editFieldsInfo": null, "ownershipBasedAccessControlForRasters": null, "allowComputeTiePoints": false, "useStandardizedQueries": true, "advancedQueryCapabilities": { "useStandardizedQueries": true, "supportsStatistics": false, "supportsOrderBy": false, "supportsDistinct": false, "supportsPagination": false }, "spatialReference": { "wkid": 4326, "latestWkid": 4326, "vcsWkid": 5861, "latestVcsWkid": 5861 } }