{ "currentVersion": 10.81, "serviceDescription": "

This data shows the depth of the seabed around Ireland between 0 and 5000 metre depths. The data was collected between 1996 and 202<\/SPAN>2<\/SPAN>. <\/SPAN><\/P>
Bathymetry is the measurement of how deep is the sea. Bathymetry is the study of the shape and features of the seabed. The name comes from Greek words meaning \"deep\" and \u201cmeasure\". <\/SPAN><\/P>
Bathymetry is collected on board boats working at sea and airplanes over land and coastline. The boats use special equipment called a multibeam echosounder. A multibeam echosounder is a type of sonar that is used to map the seabed. Sound waves are emitted in a fan shape beneath the boat. The amount of time it takes for the sound waves to bounce off the bottom of the sea and return to a receiver is used to determine water depth. <\/SPAN><\/P>
LiDAR (Light Detection and Ranging) is another way to map the seabed, using airplanes. Two laser light beams are emitted from a sensor on-board an airplane. The red beam reaches the water surface and bounces back; while the green beam penetrates the water hits the seabed and bounces back. The difference in time between the two beams returning allows the water depth to be calculated. LiDAR is only suitable for shallow waters (up to 30m depth). <\/SPAN><\/P>
The data are collected as points in XYZ format. X and Y coordinates and Z (depth). The boat travels up and down the water in a series of lines (trackline). An XYZ file is created for each line and contains thousands of points. The line files are merged together and converted into gridded data to create a Digital Terrain Model of the seabed. <\/SPAN><\/P>
Colours are also used to show depth ranges. Reds and browns show heights above sea-level. Yellows and greens are shallow waters up to 45m deep. Blues (up to 110m deep) and purple show deeper waters up to 200m deep. <\/SPAN><\/P>
This is a raster dataset. Raster data stores information in a cell-based manner and consists of a matrix of cells (or pixels) organised into rows and columns. The format of the raster is a grid. The grid cell size is 25m by 25m. This means that each cell (pixel) represents an area on the seabed of 25 metres squared. Each cell has a depth value which is the average depth of all the points located within that cell. <\/SPAN><\/P>
This data shows areas that have been surveyed. There are plans to fill in the missing areas between 2020 and 2026. The deeper offshore waters were mapped as part of the Irish National Seabed Survey (INSS) between 1999 and 2005. INtegrated Mapping FOr the Sustainable Development of Ireland's MArine Resource (INFOMAR) is mapping the inshore areas. (2006 - 2026).<\/SPAN><\/P><\/DIV><\/DIV><\/DIV>", "name": "Marine/IE_GSI_MI_Bathymetry_25m_IE_Waters_WGS84_LAT_GRID", "description": "

This data shows the depth of the seabed around Ireland between 0 and 5000 metre depths. The data was collected between 1996 and 202<\/SPAN>2<\/SPAN>. <\/SPAN><\/P>
Bathymetry is the measurement of how deep is the sea. Bathymetry is the study of the shape and features of the seabed. The name comes from Greek words meaning \"deep\" and \u201cmeasure\". <\/SPAN><\/P>
Bathymetry is collected on board boats working at sea and airplanes over land and coastline. The boats use special equipment called a multibeam echosounder. A multibeam echosounder is a type of sonar that is used to map the seabed. Sound waves are emitted in a fan shape beneath the boat. The amount of time it takes for the sound waves to bounce off the bottom of the sea and return to a receiver is used to determine water depth. <\/SPAN><\/P>
LiDAR (Light Detection and Ranging) is another way to map the seabed, using airplanes. Two laser light beams are emitted from a sensor on-board an airplane. The red beam reaches the water surface and bounces back; while the green beam penetrates the water hits the seabed and bounces back. The difference in time between the two beams returning allows the water depth to be calculated. LiDAR is only suitable for shallow waters (up to 30m depth). <\/SPAN><\/P>
The data are collected as points in XYZ format. X and Y coordinates and Z (depth). The boat travels up and down the water in a series of lines (trackline). An XYZ file is created for each line and contains thousands of points. The line files are merged together and converted into gridded data to create a Digital Terrain Model of the seabed. <\/SPAN><\/P>
Colours are also used to show depth ranges. Reds and browns show heights above sea-level. Yellows and greens are shallow waters up to 45m deep. Blues (up to 110m deep) and purple show deeper waters up to 200m deep. <\/SPAN><\/P>
This is a raster dataset. Raster data stores information in a cell-based manner and consists of a matrix of cells (or pixels) organised into rows and columns. The format of the raster is a grid. The grid cell size is 25m by 25m. This means that each cell (pixel) represents an area on the seabed of 25 metres squared. Each cell has a depth value which is the average depth of all the points located within that cell. <\/SPAN><\/P>
This data shows areas that have been surveyed. There are plans to fill in the missing areas between 2020 and 2026. The deeper offshore waters were mapped as part of the Irish National Seabed Survey (INSS) between 1999 and 2005. INtegrated Mapping FOr the Sustainable Development of Ireland's MArine Resource (INFOMAR) is mapping the inshore areas. (2006 - 2026).<\/SPAN><\/P><\/DIV><\/DIV><\/DIV>", "extent": { "xmin": -25.611335315790107, "ymin": 41.814697674499435, "xmax": -4.748476303141878, "ymax": 63.5674820059098, "spatialReference": { "wkid": 4326, "latestWkid": 4326, "vcsWkid": 5861, "latestVcsWkid": 5861 } }, "initialExtent": { "xmin": -25.611335315790107, "ymin": 41.814697674499435, "xmax": -4.748476303141878, "ymax": 63.5674820059098, "spatialReference": { "wkid": 4326, "latestWkid": 4326, "vcsWkid": 5861, "latestVcsWkid": 5861 } }, "fullExtent": { "xmin": -25.611335315790107, "ymin": 41.814697674499435, "xmax": -4.748476303141878, "ymax": 63.5674820059098, "spatialReference": { "wkid": 4326, "latestWkid": 4326, "vcsWkid": 5861, "latestVcsWkid": 5861 } }, "heightModelInfo": { "heightModel": "gravity_related_height", "vertCRS": "LAT_Depth", "heightUnit": "meter" }, "pixelSizeX": 3.404457990673819E-4, "pixelSizeY": 3.404457990673819E-4, "datasetFormat": "FGDBR", "uncompressedSize": 15661942400, "blockWidth": 128, "blockHeight": 128, "compressionType": "NONE", "bandNames": [ "Band_1" ], "allowCopy": true, "allowAnalysis": true, "bandCount": 1, "pixelType": "F32", "minPixelSize": 0, "maxPixelSize": 0, "copyrightText": "Geological Survey Ireland & Marine Institute", "serviceDataType": "esriImageServiceDataTypeGeneric", "serviceSourceType": "esriImageServiceSourceTypeDataset", "minValues": [ -4881.1904296875 ], "maxValues": [ 62.6636962890625 ], "meanValues": [ -1382.2862071969873 ], "stdvValues": [ 1088.270939237252 ], "objectIdField": "", "fields": [], "capabilities": "Image,Metadata,Pixels,Mensuration", "defaultMosaicMethod": "Center", "allowedMosaicMethods": "", "sortField": "", "sortValue": null, "sortAscending": true, "mosaicOperator": "First", "defaultCompressionQuality": 75, "defaultResamplingMethod": "Bilinear", "maxImageHeight": 4100, "maxImageWidth": 15000, "allowRasterFunction": true, "rasterFunctionInfos": [ { "name": "None", "description": "", "help": "" } ], "rasterTypeInfos": [ { "name": "Raster Dataset", "description": "Supports all ArcGIS Raster Datasets", "help": "" } ], "mensurationCapabilities": "Basic", "hasHistograms": true, "hasColormap": false, "hasRasterAttributeTable": false, "minScale": 0, "maxScale": 0, "exportTilesAllowed": false, "hasMultidimensions": false, "supportsStatistics": false, "supportsAdvancedQueries": false, "editFieldsInfo": null, "ownershipBasedAccessControlForRasters": null, "allowComputeTiePoints": false, "useStandardizedQueries": true, "advancedQueryCapabilities": { "useStandardizedQueries": true, "supportsStatistics": false, "supportsOrderBy": false, "supportsDistinct": false, "supportsPagination": false }, "spatialReference": { "wkid": 4326, "latestWkid": 4326, "vcsWkid": 5861, "latestVcsWkid": 5861 } }