{ "currentVersion": 10.81, "serviceDescription": "
LiDAR (Light Detection and Ranging) is a remote sensing technology, i.e. the technology is not in direct contact with what is being measured. From satellite, aeroplane or helicopter, a LiDAR system sends a light pulse to the ground. This pulse hits the ground and returns back to a sensor on the system. The time is recorded to measure how long it takes for this light to return. <\/SPAN><\/SPAN><\/P> Knowing this time measurement scientists are able to create topography maps.<\/SPAN><\/SPAN><\/P> LiDAR data are collected as points (X,Y,Z (x & y coordinates) and z (height)). The data is then converted into gridded (GeoTIFF) data to create a Digital Terrain Model and Digital Surface Model of the earth. This LiDAR data was collected between Jan. 2007 and Oct. 2017. <\/SPAN><\/SPAN><\/P> An ordnance datum (OD) is a vertical datum used as the basis for deriving heights on maps.<\/SPAN><\/SPAN> This data is referenced to the Malin Head Vertical Datum which is the mean sea level of the tide gauge at Malin Head, County Donegal. It was adopted as the national datum in 1970 from readings taken between 1960 and 1969 and all heights on national grid maps are measured above this datum. <\/SPAN><\/SPAN><\/P> Digital Terrain Models (DTM) are bare earth models (no trees or buildings) of the Earth<\/SPAN><\/SPAN>\u2019<\/SPAN><\/SPAN>s surface.<\/SPAN><\/SPAN><\/P> Digital Surface Models (DSM) are earth models in its current state. For example, a DSM includes elevations from buildings, tree canopy, electrical power lines and other features.<\/SPAN><\/SPAN><\/P> Hillshading is a method which gives a 3D appearance to the terrain. It shows the shape of hills and mountains using shading (levels of grey) on a map, by the use of graded shadows that would be cast by high ground if light was shining from a chosen direction.<\/SPAN><\/SPAN><\/P> This data shows the hillshade of several DTM's mosaiced together.<\/SPAN><\/P> This data was collected by the Geological Survey Ireland, the Department of Culture, Heritage and the Gaeltacht, the Discovery Programme and the Heritage Council. All data formats are provided as GeoTIFF rasters but are at different resolutions. Data resolution varies depending on survey requirements from 0.125m to 1m.<\/SPAN><\/SPAN><\/P> Both a DTM and DSM are raster data. Raster data is another name for gridded data. Raster data stores information in pixels (grid cells). Each raster grid makes up a matrix of cells (or pixels) organised into rows and columns. The grid cell size varies depending on the organisation that collected it. GSI data has a grid cell size of 1 meter by 1 meter. This means that each cell (pixel) represents an area of 1 meter squared<\/SPAN><\/SPAN><\/P><\/DIV><\/DIV><\/DIV>",
"name": "PGTEST/PG_RLIDAR_DTMHSGSIITMTIFF",
"description": " LiDAR (Light Detection and Ranging) is a remote sensing technology, i.e. the technology is not in direct contact with what is being measured. From satellite, aeroplane or helicopter, a LiDAR system sends a light pulse to the ground. This pulse hits the ground and returns back to a sensor on the system. The time is recorded to measure how long it takes for this light to return. <\/SPAN><\/SPAN><\/P> Knowing this time measurement scientists are able to create topography maps.<\/SPAN><\/SPAN><\/P> LiDAR data are collected as points (X,Y,Z (x & y coordinates) and z (height)). The data is then converted into gridded (GeoTIFF) data to create a Digital Terrain Model and Digital Surface Model of the earth. This LiDAR data was collected between Jan. 2007 and Oct. 2017. <\/SPAN><\/SPAN><\/P> An ordnance datum (OD) is a vertical datum used as the basis for deriving heights on maps.<\/SPAN><\/SPAN> This data is referenced to the Malin Head Vertical Datum which is the mean sea level of the tide gauge at Malin Head, County Donegal. It was adopted as the national datum in 1970 from readings taken between 1960 and 1969 and all heights on national grid maps are measured above this datum. <\/SPAN><\/SPAN><\/P> Digital Terrain Models (DTM) are bare earth models (no trees or buildings) of the Earth<\/SPAN><\/SPAN>\u2019<\/SPAN><\/SPAN>s surface.<\/SPAN><\/SPAN><\/P> Digital Surface Models (DSM) are earth models in its current state. For example, a DSM includes elevations from buildings, tree canopy, electrical power lines and other features.<\/SPAN><\/SPAN><\/P> Hillshading is a method which gives a 3D appearance to the terrain. It shows the shape of hills and mountains using shading (levels of grey) on a map, by the use of graded shadows that would be cast by high ground if light was shining from a chosen direction.<\/SPAN><\/SPAN><\/P> This data shows the hillshade of several DTM's mosaiced together.<\/SPAN><\/P> This data was collected by the Geological Survey Ireland, the Department of Culture, Heritage and the Gaeltacht, the Discovery Programme and the Heritage Council. All data formats are provided as GeoTIFF rasters but are at different resolutions. Data resolution varies depending on survey requirements from 0.125m to 1m.<\/SPAN><\/SPAN><\/P> Both a DTM and DSM are raster data. Raster data is another name for gridded data. Raster data stores information in pixels (grid cells). Each raster grid makes up a matrix of cells (or pixels) organised into rows and columns. The grid cell size varies depending on the organisation that collected it. GSI data has a grid cell size of 1 meter by 1 meter. This means that each cell (pixel) represents an area of 1 meter squared<\/SPAN><\/SPAN><\/P><\/DIV><\/DIV><\/DIV>",
"extent": {
"xmin": 424358.4239329591,
"ymin": 560332.4086843571,
"xmax": 709925.623932959,
"ymax": 830829.2086843571,
"spatialReference": {
"wkid": 2157,
"latestWkid": 2157
}
},
"initialExtent": {
"xmin": 424358.4239329591,
"ymin": 560332.4086843571,
"xmax": 709925.623932959,
"ymax": 830829.2086843571,
"spatialReference": {
"wkid": 2157,
"latestWkid": 2157
}
},
"fullExtent": {
"xmin": 424358.4239329591,
"ymin": 560332.4086843571,
"xmax": 709925.623932959,
"ymax": 830829.2086843571,
"spatialReference": {
"wkid": 2157,
"latestWkid": 2157
}
},
"pixelSizeX": 0.09999999999999998,
"pixelSizeY": 0.10000000000000002,
"datasetFormat": "AMD",
"uncompressedSize": 7724501378496,
"blockWidth": 2048,
"blockHeight": 256,
"compressionType": "None",
"bandNames": [
"Band_1"
],
"allowCopy": true,
"allowAnalysis": true,
"bandCount": 1,
"pixelType": "U8",
"minPixelSize": 0,
"maxPixelSize": 0,
"copyrightText": "Geological Survey Ireland, Department of Culture, Heritage and the Gaeltacht, Discovery Programme and the Heritage Council",
"serviceDataType": "esriImageServiceDataTypeGeneric",
"serviceSourceType": "esriImageServiceSourceTypeMosaicDataset",
"minValues": [
0
],
"maxValues": [
255
],
"meanValues": [
117.35281069776285
],
"stdvValues": [
29.30031547066584
],
"objectIdField": "OBJECTID",
"fields": [
{
"name": "OBJECTID",
"type": "esriFieldTypeOID",
"alias": "OBJECTID",
"domain": null
},
{
"name": "NAME",
"type": "esriFieldTypeString",
"alias": "NAME",
"domain": null,
"length": 200
},
{
"name": "MINPS",
"type": "esriFieldTypeDouble",
"alias": "MINPS",
"domain": null
},
{
"name": "MAXPS",
"type": "esriFieldTypeDouble",
"alias": "MAXPS",
"domain": null
},
{
"name": "LOWPS",
"type": "esriFieldTypeDouble",
"alias": "LOWPS",
"domain": null
},
{
"name": "HIGHPS",
"type": "esriFieldTypeDouble",
"alias": "HIGHPS",
"domain": null
},
{
"name": "CATEGORY",
"type": "esriFieldTypeInteger",
"alias": "CATEGORY",
"domain": {
"type": "codedValue",
"name": "MosaicCatalogItemCategoryDomain",
"description": "Catalog item categories.",
"codedValues": [
{
"name": "Unknown",
"code": 0
},
{
"name": "Primary",
"code": 1
},
{
"name": "Overview",
"code": 2
},
{
"name": "Unprocessed Overview",
"code": 3
},
{
"name": "Partial Overview",
"code": 4
},
{
"name": "Inactive",
"code": 5
},
{
"name": "Uploaded",
"code": 253
},
{
"name": "Incomplete",
"code": 254
},
{
"name": "Custom",
"code": 255
}
],
"mergePolicy": "esriMPTDefaultValue",
"splitPolicy": "esriSPTDefaultValue"
}
},
{
"name": "TAG",
"type": "esriFieldTypeString",
"alias": "TAG",
"domain": null,
"length": 100
},
{
"name": "GROUPNAME",
"type": "esriFieldTypeString",
"alias": "GROUPNAME",
"domain": null,
"length": 100
},
{
"name": "PRODUCTNAME",
"type": "esriFieldTypeString",
"alias": "PRODUCTNAME",
"domain": null,
"length": 100
},
{
"name": "CENTERX",
"type": "esriFieldTypeDouble",
"alias": "CENTERX",
"domain": null
},
{
"name": "CENTERY",
"type": "esriFieldTypeDouble",
"alias": "CENTERY",
"domain": null
},
{
"name": "ZORDER",
"type": "esriFieldTypeInteger",
"alias": "ZORDER",
"domain": null
},
{
"name": "SHAPE",
"type": "esriFieldTypeGeometry",
"alias": "SHAPE",
"domain": null
},
{
"name": "SHAPE.AREA",
"type": "esriFieldTypeDouble",
"alias": "SHAPE.AREA",
"domain": null
},
{
"name": "SHAPE.LEN",
"type": "esriFieldTypeDouble",
"alias": "SHAPE.LEN",
"domain": null
}
],
"capabilities": "Image,Metadata,Catalog",
"defaultMosaicMethod": "Northwest",
"allowedMosaicMethods": "NorthWest,Center,LockRaster,ByAttribute,Nadir,Viewpoint,Seamline,None",
"sortField": "",
"sortValue": null,
"sortAscending": true,
"mosaicOperator": "First",
"maxDownloadSizeLimit": 2048,
"defaultCompressionQuality": 75,
"defaultResamplingMethod": "Bilinear",
"maxImageHeight": 4100,
"maxImageWidth": 15000,
"maxRecordCount": 1000,
"maxDownloadImageCount": 20,
"maxMosaicImageCount": 42,
"allowRasterFunction": true,
"rasterFunctionInfos": [
{
"name": "None",
"description": "A No-Op Function.",
"help": ""
}
],
"rasterTypeInfos": [
{
"name": "Raster Dataset",
"description": "Supports all ArcGIS Raster Datasets",
"help": ""
}
],
"mensurationCapabilities": "None",
"hasHistograms": true,
"hasColormap": false,
"hasRasterAttributeTable": false,
"minScale": 0,
"maxScale": 0,
"exportTilesAllowed": false,
"hasMultidimensions": false,
"supportsStatistics": true,
"supportsAdvancedQueries": true,
"editFieldsInfo": null,
"ownershipBasedAccessControlForRasters": null,
"allowComputeTiePoints": false,
"useStandardizedQueries": true,
"advancedQueryCapabilities": {
"useStandardizedQueries": true,
"supportsStatistics": true,
"supportsOrderBy": true,
"supportsDistinct": true,
"supportsPagination": true
},
"spatialReference": {
"wkid": 2157,
"latestWkid": 2157
}
}