{
 "currentVersion": 10.81,
 "cimVersion": "2.6.0",
 "serviceDescription": "",
 "mapName": "TELLUS_Perf_Test_03",
 "description": "",
 "copyrightText": "",
 "supportsDynamicLayers": true,
 "layers": [
  {
   "id": 52,
   "name": "SOILS A Samples",
   "parentLayerId": -1,
   "defaultVisibility": true,
   "subLayerIds": null,
   "minScale": 0,
   "maxScale": 400000,
   "type": "Feature Layer",
   "geometryType": "esriGeometryPoint",
   "supportsDynamicLegends": true
  }
 ],
 "tables": [],
 "spatialReference": {
  "wkid": 2157,
  "latestWkid": 2157,
  "xyTolerance": 0.001,
  "zTolerance": 0.001,
  "mTolerance": 0.001,
  "falseX": -5022200,
  "falseY": -15179500,
  "xyUnits": 10000,
  "falseZ": -100000,
  "zUnits": 10000,
  "falseM": -100000,
  "mUnits": 10000
 },
 "singleFusedMapCache": true,
 "tileInfo": {
  "rows": 256,
  "cols": 256,
  "dpi": 96,
  "format": "PNG",
  "compressionQuality": 0,
  "origin": {
   "x": -5022200,
   "y": 4821100
  },
  "spatialReference": {
   "wkid": 2157,
   "latestWkid": 2157,
   "xyTolerance": 0.001,
   "zTolerance": 0.001,
   "mTolerance": 0.001,
   "falseX": -5022200,
   "falseY": -15179500,
   "xyUnits": 4.503464523434792E8,
   "falseZ": -100000,
   "zUnits": 10000,
   "falseM": -100000,
   "mUnits": 10000
  },
  "lods": [
   {
    "level": 0,
    "resolution": 1058.3354500042335,
    "scale": 4000000
   },
   {
    "level": 1,
    "resolution": 661.4596562526459,
    "scale": 2500000
   },
   {
    "level": 2,
    "resolution": 330.72982812632296,
    "scale": 1250000
   },
   {
    "level": 3,
    "resolution": 158.75031750063502,
    "scale": 600000
   },
   {
    "level": 4,
    "resolution": 105.83354500042334,
    "scale": 400000
   },
   {
    "level": 5,
    "resolution": 52.91677250021167,
    "scale": 200000
   },
   {
    "level": 6,
    "resolution": 26.458386250105836,
    "scale": 100000
   },
   {
    "level": 7,
    "resolution": 13.229193125052918,
    "scale": 50000
   },
   {
    "level": 8,
    "resolution": 6.614596562526459,
    "scale": 25000
   },
   {
    "level": 9,
    "resolution": 2.6458386250105836,
    "scale": 10000
   },
   {
    "level": 10,
    "resolution": 1.3229193125052918,
    "scale": 5000
   },
   {
    "level": 11,
    "resolution": 0.6614596562526459,
    "scale": 2500
   },
   {
    "level": 12,
    "resolution": 0.26458386250105836,
    "scale": 1000
   }
  ]
 },
 "initialExtent": {
  "xmin": 284360.3103907902,
  "ymin": 491396.4501467812,
  "xmax": 891207.86376367,
  "ymax": 1011821.8467503423,
  "spatialReference": {
   "wkid": 2157,
   "latestWkid": 2157,
   "xyTolerance": 0.001,
   "zTolerance": 0.001,
   "mTolerance": 0.001,
   "falseX": -5022200,
   "falseY": -15179500,
   "xyUnits": 10000,
   "falseZ": -100000,
   "zUnits": 10000,
   "falseM": -100000,
   "mUnits": 10000
  }
 },
 "fullExtent": {
  "xmin": 454992.889,
  "ymin": 581206.15,
  "xmax": 766096.13,
  "ymax": 959038.421,
  "spatialReference": {
   "wkid": 2157,
   "latestWkid": 2157,
   "xyTolerance": 0.001,
   "zTolerance": 0.001,
   "mTolerance": 0.001,
   "falseX": -5022200,
   "falseY": -15179500,
   "xyUnits": 10000,
   "falseZ": -100000,
   "zUnits": 10000,
   "falseM": -100000,
   "mUnits": 10000
  }
 },
 "minScale": 4000000,
 "maxScale": 100000,
 "minLOD": 0,
 "maxLOD": 6,
 "units": "esriMeters",
 "supportedImageFormatTypes": "PNG32,PNG24,PNG,JPG,DIB,TIFF,EMF,PS,PDF,GIF,SVG,SVGZ,BMP",
 "documentInfo": {
  "Title": "Map",
  "Author": "",
  "Comments": "",
  "Subject": "",
  "Category": "",
  "AntialiasingMode": "None",
  "TextAntialiasingMode": "Force",
  "Keywords": "TELLUS_Perf_Test_03"
 },
 "capabilities": "Map,Query,Data",
 "supportedQueryFormats": "JSON, geoJSON, PBF",
 "exportTilesAllowed": false,
 "referenceScale": 0.0,
 "datumTransformations": [
  {
   "geoTransforms": [
    {
     "wkid": 1678,
     "latestWkid": 1678,
     "transformForward": false,
     "name": "IRENET95_To_WGS_1984_1"
    }
   ]
  },
  {
   "geoTransforms": [
    {
     "wkid": 1678,
     "latestWkid": 1678,
     "transformForward": true,
     "name": "IRENET95_To_WGS_1984_1"
    }
   ]
  }
 ],
 "supportsDatumTransformation": true,
 "archivingInfo": {
  "supportsHistoricMoment": false
 },
 "supportsClipping": true,
 "supportsSpatialFilter": true,
 "supportsQueryDataElements": true,
 "maxRecordCount": 2000,
 "maxImageHeight": 4096,
 "maxImageWidth": 4096,
 "supportedExtensions": "",
 "serviceItemId": "adf3b58b667d41da971074c3a9c373c0"
}
