{ "currentVersion": 10.81, "cimVersion": "2.6.0", "serviceDescription": "

These data show the intensity of gamma rays released by Uranium, Thorium and Potassium in different soils and rocks in Ireland. Different soils and rock types can then be mapped. The data were collected between 2005 and 2021.<\/SPAN><\/P>
Several surveys were merged to create this dataset. <\/SPAN><\/P>
(1) Tellus Northern Ireland 2005-2006<\/SPAN><\/P>
(2) Cavan-Monaghan, 2006<\/SPAN><\/P>
(3) Tellus Border, 2011-2012<\/SPAN><\/P>
(4) Tellus North Midlands, 2014-2015<\/SPAN><\/P>
(5) Block A1, 2015<\/SPAN><\/P>
(6) Block A2, 2016<\/SPAN><\/P>
(7) Waterford, 2016<\/SPAN><\/P>
(8) Block A3, 2017<\/SPAN><\/P>
(9) Block A4, 2017<\/SPAN><\/P>
(10) Block A5, 2018-2019<\/SPAN><\/P>
(11) Block A6, 2018-2019<\/SPAN><\/P>
(12) Block A7, 2019<\/SPAN><\/P>
(13) Block A8 2020-2021<\/SPAN><\/P>
(14) Block A9 2021<\/SPAN><\/P>
The data were collected using an airplane. The airplane flies at 60 m flight height along lines that are 200 m apart. Gamma ray spectrometer data are recorded at around 60 m intervals along the flight lines. The spectrometer system mounted on the airplane records the number of gamma rays emitted per second by rocks and soils. The gamma ray intensity changes depending on the amount of Uranium, Thorium and Potassium in rocks and soil beneath the aircraft. For example, rocks such as granite contain a large amount of Uranium, Thorium and Potassium, while limestone rocks contain low amounts of these elements.<\/SPAN><\/P>
The data are collected as points in XYZ format. X and Y are the airplane coordinates. Z is the different recorded data, which include gamma ray intensity and aircraft flight height. The XYZ data for each line contains thousands of points. The data from separate lines are merged to create grids of gamma ray counts and Uranium, Thorium and Potassium contents for each survey block. All the survey blocks are then merged to create final grids for Ireland.<\/SPAN><\/P>
This data shows the total radioactivity contained in the ground which can then be mapped.<\/SPAN><\/P>
Colours are used to show gamma ray counts, Uranium, Thorium and Potassium concentration ranges. The values are defined in counts-per-second for gamma ray counts, parts per million for Uranium and Thorium concentrations and percent for Potassium concentration. Pinks and reds show the highest values. Greens and blues show lowest values.<\/SPAN><\/P>
This is a raster dataset. Raster data stores information in a cell-based manner and consists of a matrix of cells (or pixels) arranged into rows and columns. The format of the raster is a grid. The grid cell size is 50 m by 50 m. This means that each cell (pixel) represents an area on the ground of 50 metres squared. Each cell has a value which is the average value of all the points located within that cell.<\/SPAN><\/P>
The Tellus project is a national survey which collects geochemical and geophysical data across Ireland. It allows us to study the chemical and physical properties of our soil, rocks and water. It is managed by the Geological Survey Ireland.<\/SPAN><\/P><\/DIV><\/DIV><\/DIV><\/DIV>", "mapName": "Radiometric Total Counts", "description": "

These data show the intensity of gamma rays released by Uranium, Thorium and Potassium in different soils and rocks in Ireland. Different soils and rock types can then be mapped. The data were collected between 2005 and 2021.<\/SPAN><\/P>
Several surveys were merged to create this dataset. <\/SPAN><\/P>
(1) Tellus Northern Ireland 2005-2006<\/SPAN><\/P>
(2) Cavan-Monaghan, 2006<\/SPAN><\/P>
(3) Tellus Border, 2011-2012<\/SPAN><\/P>
(4) Tellus North Midlands, 2014-2015<\/SPAN><\/P>
(5) Block A1, 2015<\/SPAN><\/P>
(6) Block A2, 2016<\/SPAN><\/P>
(7) Waterford, 2016<\/SPAN><\/P>
(8) Block A3, 2017<\/SPAN><\/P>
(9) Block A4, 2017<\/SPAN><\/P>
(10) Block A5, 2018-2019<\/SPAN><\/P>
(11) Block A6, 2018-2019<\/SPAN><\/P>
(12) Block A7, 2019<\/SPAN><\/P>
(13) Block A8 2020-2021<\/SPAN><\/P>
(14) Block A9 2021<\/SPAN><\/P>
The data were collected using an airplane. The airplane flies at 60 m flight height along lines that are 200 m apart. Gamma ray spectrometer data are recorded at around 60 m intervals along the flight lines. The spectrometer system mounted on the airplane records the number of gamma rays emitted per second by rocks and soils. The gamma ray intensity changes depending on the amount of Uranium, Thorium and Potassium in rocks and soil beneath the aircraft. For example, rocks such as granite contain a large amount of Uranium, Thorium and Potassium, while limestone rocks contain low amounts of these elements.<\/SPAN><\/P>
The data are collected as points in XYZ format. X and Y are the airplane coordinates. Z is the different recorded data, which include gamma ray intensity and aircraft flight height. The XYZ data for each line contains thousands of points. The data from separate lines are merged to create grids of gamma ray counts and Uranium, Thorium and Potassium contents for each survey block. All the survey blocks are then merged to create final grids for Ireland.<\/SPAN><\/P>
This data shows the total radioactivity contained in the ground which can then be mapped.<\/SPAN><\/P>
Colours are used to show gamma ray counts, Uranium, Thorium and Potassium concentration ranges. The values are defined in counts-per-second for gamma ray counts, parts per million for Uranium and Thorium concentrations and percent for Potassium concentration. Pinks and reds show the highest values. Greens and blues show lowest values.<\/SPAN><\/P>
This is a raster dataset. Raster data stores information in a cell-based manner and consists of a matrix of cells (or pixels) arranged into rows and columns. The format of the raster is a grid. The grid cell size is 50 m by 50 m. This means that each cell (pixel) represents an area on the ground of 50 metres squared. Each cell has a value which is the average value of all the points located within that cell.<\/SPAN><\/P>
The Tellus project is a national survey which collects geochemical and geophysical data across Ireland. It allows us to study the chemical and physical properties of our soil, rocks and water. It is managed by the Geological Survey Ireland.<\/SPAN><\/P><\/DIV><\/DIV><\/DIV><\/DIV>", "copyrightText": "Contains Irish Public Sector Data (Geological Survey Ireland) licensed under a Creative Commons Attribution 4.0 International (CC BY 4.0) licence. Contains UK public sector information (Geological Survey of Northern Ireland) licensed under the UK Open Government Licence v3.0.", "supportsDynamicLayers": true, "layers": [ { "id": 0, "name": "Radiometric Total Count 50m", "parentLayerId": -1, "defaultVisibility": true, "subLayerIds": null, "minScale": 0, "maxScale": 0, "type": "Raster Layer", "supportsDynamicLegends": true } ], "tables": [], "spatialReference": { "wkid": 2157, "latestWkid": 2157, "xyTolerance": 0.001, "zTolerance": 2.0E-4, "mTolerance": 2.0E-4, "falseX": -5022200, "falseY": -15179500, "xyUnits": 4.503464523434792E8, "falseZ": -100000, "zUnits": 10000, "falseM": -100000, "mUnits": 10000 }, "singleFusedMapCache": true, "tileInfo": { "rows": 256, "cols": 256, "dpi": 96, "format": "PNG", "compressionQuality": 0, "origin": { "x": -5022200, "y": 4821100 }, "spatialReference": { "wkid": 2157, "latestWkid": 2157, "xyTolerance": 0.001, "zTolerance": 0.001, "mTolerance": 0.001, "falseX": -5022200, "falseY": -15179500, "xyUnits": 4.503464523434792E8, "falseZ": -100000, "zUnits": 10000, "falseM": -100000, "mUnits": 10000 }, "lods": [ { "level": 0, "resolution": 1058.3354500042335, "scale": 4000000 }, { "level": 1, "resolution": 661.4596562526459, "scale": 2500000 }, { "level": 2, "resolution": 330.72982812632296, "scale": 1250000 }, { "level": 3, "resolution": 158.75031750063502, "scale": 600000 }, { "level": 4, "resolution": 105.83354500042334, "scale": 400000 }, { "level": 5, "resolution": 52.91677250021167, "scale": 200000 }, { "level": 6, "resolution": 26.458386250105836, "scale": 100000 }, { "level": 7, "resolution": 13.229193125052918, "scale": 50000 }, { "level": 8, "resolution": 6.614596562526459, "scale": 25000 }, { "level": 9, "resolution": 2.6458386250105836, "scale": 10000 }, { "level": 10, "resolution": 1.3229193125052918, "scale": 5000 }, { "level": 11, "resolution": 0.6614596562526459, "scale": 2500 }, { "level": 12, "resolution": 0.26458386250105836, "scale": 1000 } ] }, "initialExtent": { "xmin": 50007.32769044733, "ymin": 497877.5, "xmax": 1164192.6723095528, "ymax": 981822.5, "spatialReference": { "wkid": 2157, "latestWkid": 2157, "xyTolerance": 0.001, "zTolerance": 2.0E-4, "mTolerance": 2.0E-4, "falseX": -5022200, "falseY": -15179500, "xyUnits": 4.503464523434792E8, "falseZ": -100000, "zUnits": 10000, "falseM": -100000, "mUnits": 10000 } }, "fullExtent": { "xmin": 447675, "ymin": 519875, "xmax": 766525, "ymax": 959825, "spatialReference": { "wkid": 2157, "latestWkid": 2157, "xyTolerance": 0.001, "zTolerance": 2.0E-4, "mTolerance": 2.0E-4, "falseX": -5022200, "falseY": -15179500, "xyUnits": 4.503464523434792E8, "falseZ": -100000, "zUnits": 10000, "falseM": -100000, "mUnits": 10000 } }, "minScale": 4000000, "maxScale": 50000, "minLOD": 0, "maxLOD": 7, "units": "esriMeters", "supportedImageFormatTypes": "PNG32,PNG24,PNG,JPG,DIB,TIFF,EMF,PS,PDF,GIF,SVG,SVGZ,BMP", "documentInfo": { "Title": "C:\\PROPROJECTS\\Template1\\Template1.aprx", "Author": "", "Comments": "", "Subject": "", "Category": "", "AntialiasingMode": "None", "TextAntialiasingMode": "Force", "Keywords": "Ireland,Geology,IE/GSI,Tellus,Geophysics,Radiometrics,Total Count,Merge 2022" }, "capabilities": "Map,Query,Data", "supportedQueryFormats": "JSON, geoJSON, PBF", "exportTilesAllowed": false, "referenceScale": 0.0, "supportsDatumTransformation": true, "archivingInfo": {"supportsHistoricMoment": false}, "supportsClipping": true, "supportsSpatialFilter": true, "supportsQueryDataElements": true, "maxRecordCount": 2000, "maxImageHeight": 4096, "maxImageWidth": 4096, "supportedExtensions": "", "serviceItemId": "1eeb9b375a094e8bbe31bad06832de0e" }