{ "currentVersion": 10.81, "cimVersion": "2.6.0", "serviceDescription": "
Groundwater is the water that soaks into the ground from rain and is stored beneath the ground. An aquifer is a body of rock and/or sediment that holds groundwater. The process of rain filling up an aquifer is called \u2018recharge\u2019. <\/SPAN><\/SPAN><\/P> The Groundwater Recharge map shows the amount of rainfall which reaches the stores of groundwater (the \u2018aquifers\u2019) across Ireland. The amount of recharge was calculated over the period 1981-2010 and then averaged to give a yearly amount.<\/SPAN><\/SPAN><\/P> Geological information is interpreted by hydrogeologists to create the map includes soil drainage, subsoil type, subsoil permeability, subsoil thickness, groundwater vulnerability and aquifers. The amount of rain falling on the land minus how much of that rain is taken up by plants is also a factor that determines how much groundwater recharge there is at a particular location. This is known as the \u2018effective rainfall\u2019.<\/SPAN><\/SPAN><\/P> Different combinations of the geological factors give 24 hydrogeological scenarios. There is a \u2018recharge coefficient\u2019 for each scenario, which is the percentage of the \u2018effective rainfall\u2019 that may become groundwater recharge. Using ArcGIS software, the data are merged to create areas on a map to show the recharge. Please read the lineage for more detail.<\/SPAN><\/SPAN><\/P> This map is to the scale 1:40,000. This means it should be viewed at that scale. When printed at that scale 1cm on the map relates to a distance of 400m.<\/SPAN><\/SPAN><\/P> It is a vector dataset. Vector data portray the world using points, lines, and polygons (areas). The recharge data is shown as polygons. Each polygon holds information on:<\/SPAN><\/P> Average Recharge (mm/yr) - average annual recharge to the groundwater aquifer across that polygon<\/SPAN><\/SPAN><\/P> Recharge Coefficient (%) \u2013 the proportion of effective rainfall that becomes groundwater<\/SPAN><\/P> Effective Rainfall (mm/yr) \u2013 the rainwater remaining after plants have taken up some of the rainfall<\/SPAN><\/SPAN><\/P> Recharge Pre Cap (mm/yr) - effective rainfall x recharge coefficient, not limited by maximum recharge capacities<\/SPAN><\/SPAN><\/P> Recharge Cap Apply \u2013 is there a maximum amount of recharge that the aquifer can accept? (Yes/ No)<\/SPAN><\/SPAN><\/P> Recharge Maximum Capacity (mm/yr) \u2013 the maximum amount of recharge the aquifer can accept. Only applies to bedrock aquifers of category Ll, Pl, or Pu.<\/SPAN><\/SPAN><\/P> Average Recharge Range (mm/yr) - Annual Recharge (mm) categorised into a range of values used to style the map. <\/SPAN><\/SPAN><\/P> Hydrogeological Setting Code - determined by the combinations of different geological layers<\/SPAN><\/SPAN><\/P> Hydrogeological Setting Description \u2013 the description of the main geological layers that combine to let different amounts of rainfall through to become groundwater<\/SPAN><\/P> Vulnerability Category \u2013 the code for the groundwater vulnerability<\/SPAN><\/SPAN><\/P> Vulnerability Description \u2013 the groundwater vulnerability description<\/SPAN><\/SPAN><\/P> Soil Drainage \u2013 whether the soil is well drained or poorly drained<\/SPAN><\/P> Subsoil Type (Quaternary Sediment Code) \u2013 the code for the subsoil type<\/SPAN><\/SPAN><\/P> Subsoil Description (Quaternary Sediment Description) \u2013 description of the subsoil type<\/SPAN><\/P> Sand/Gravel Subsoil \u2013 whether the subsoil is sand/gravel or not<\/SPAN><\/SPAN><\/P> Subsoil Permeability Code - the code for the permeability of the subsoil <\/SPAN><\/SPAN><\/P> Subsoil Permeability Description \u2013 description of the subsoil permeability<\/SPAN><\/P> Sinking Stream \u2013 indicates the presence of a stream that sinks fully or partially into the ground. Derived from the Groundwater Vulnerability 40K mapping. <\/SPAN><\/SPAN><\/P> Sand and Gravel Aquifer Category \u2013Sand and Gravel Aquifer Category from Groundwater Resources (Aquifers) 40K mapping<\/SPAN><\/SPAN><\/P> Sand and Gravel Aquifer Description \u2013Sand and Gravel Aquifer Description from Groundwater Resources (Aquifers) 40K mapping<\/SPAN><\/SPAN><\/P> Bedrock Aquifer Category \u2013Bedrock Aquifer Category from Groundwater Resources (Aquifers) 100K mapping<\/SPAN><\/SPAN><\/P> Bedrock Aquifer Description \u2013Bedrock Aquifer Description from Groundwater Resources (Aquifers) 100K mapping<\/SPAN><\/P> Hydrostratigraphic Rock Unit Group Name\u2013 Rock Unit Groups that have hydrogeological significance<\/SPAN><\/P> County \u2013 Irish County<\/SPAN><\/SPAN><\/P> <\/P><\/DIV><\/DIV><\/DIV>",
"mapName": "IE_GSI_Groundwater_Recharge_40K_IE26_ITM",
"description": "Groundwater is the water that soaks into the ground from rain and is stored beneath the ground. An aquifer is a body of rock and/or sediment that holds groundwater. The process of rain filling up an aquifer is called \u2018recharge\u2019. The Groundwater Recharge map shows the amount of rainfall which reaches the stores of groundwater (the \u2018aquifers\u2019) across Ireland. The amount of recharge was calculated over the period 1981-2010 and then averaged to give a yearly amount.Geological information is interpreted by hydrogeologists to create the map includes soil drainage, subsoil type, subsoil permeability, subsoil thickness, groundwater vulnerability and aquifers. The amount of rain falling on the land minus how much of that rain is taken up by plants is also a factor that determines how much groundwater recharge there is at a particular location. This is known as the \u2018effective rainfall\u2019.Different combinations of the geological factors give 24 hydrogeological scenarios. There is a \u2018recharge coefficient\u2019 for each scenario, which is the percentage of the \u2018effective rainfall\u2019 that may become groundwater recharge. Using ArcGIS software, the data are merged to create areas on a map to show the recharge. Please read the lineage for more detail.This map is to the scale 1:40,000. This means it should be viewed at that scale. When printed at that scale 1cm on the map relates to a distance of 400m.It is a vector dataset. Vector data portray the world using points, lines, and polygons (areas). The recharge data is shown as polygons. Each polygon holds information on:Average Recharge (mm/yr) - average annual recharge to the groundwater aquifer across that polygonRecharge Coefficient (%) \u2013 the proportion of effective rainfall that becomes groundwaterEffective Rainfall (mm/yr) \u2013 the rainwater remaining after plants have taken up some of the rainfallRecharge Pre Cap (mm/yr) - effective rainfall x recharge coefficient, not limited by maximum recharge capacitiesRecharge Cap Apply \u2013 is there a maximum amount of recharge that the aquifer can accept? (Yes/ No)Recharge Maximum Capacity (mm/yr) \u2013 the maximum amount of recharge the aquifer can accept. Only applies to bedrock aquifers of category Ll, Pl, or Pu.Average Recharge Range (mm/yr) - Annual Recharge (mm) categorised into a range of values used to style the map. Hydrogeological Setting Code - determined by the combinations of different geological layersHydrogeological Setting Description \u2013 the description of the main geological layers that combine to let different amounts of rainfall through to become groundwaterVulnerability Category \u2013 the code for the groundwater vulnerabilityVulnerability Description \u2013 the groundwater vulnerability descriptionSoil Drainage \u2013 whether the soil is well drained or poorly drainedSubsoil Type (Quaternary Sediment Code) \u2013 the code for the subsoil typeSubsoil Description (Quaternary Sediment Description) \u2013 description of the subsoil typeSand/Gravel Subsoil \u2013 whether the subsoil is sand/gravel or notSubsoil Permeability Code - the code for the permeability of the subsoil Subsoil Permeability Description \u2013 description of the subsoil permeabilitySinking Stream \u2013 indicates the presence of a stream that sinks fully or partially into the ground. Derived from the Groundwater Vulnerability 40K mapping. Sand and Gravel Aquifer Category \u2013Sand and Gravel Aquifer Category from Groundwater Resources (Aquifers) 40K mappingSand and Gravel Aquifer Description \u2013Sand and Gravel Aquifer Description from Groundwater Resources (Aquifers) 40K mappingBedrock Aquifer Category \u2013Bedrock Aquifer Category from Groundwater Resources (Aquifers) 100K mappingBedrock Aquifer Description \u2013Bedrock Aquifer Description from Groundwater Resources (Aquifers) 100K mappingHydrostratigraphic Rock Unit Group Name\u2013 Rock Unit Groups that have hydrogeological significanceCounty \u2013 Irish County",
"copyrightText": "Geological Survey Ireland",
"supportsDynamicLayers": true,
"layers": [
{
"id": 1,
"name": "IE_GSI_Groundwater_Recharge_40K_IE26_ITM",
"parentLayerId": -1,
"defaultVisibility": true,
"subLayerIds": null,
"minScale": 0,
"maxScale": 0,
"type": "Feature Layer",
"geometryType": "esriGeometryPolygon",
"supportsDynamicLegends": true
}
],
"tables": [],
"spatialReference": {
"wkid": 2157,
"latestWkid": 2157,
"xyTolerance": 0.001,
"zTolerance": 2,
"mTolerance": 2,
"falseX": -5022200,
"falseY": -15179500,
"xyUnits": 4.503464523434792E8,
"falseZ": 0,
"zUnits": 1,
"falseM": -100000,
"mUnits": 10000
},
"singleFusedMapCache": true,
"tileInfo": {
"rows": 256,
"cols": 256,
"dpi": 96,
"format": "PNG",
"compressionQuality": 0,
"origin": {
"x": -5022200,
"y": 4821100
},
"spatialReference": {
"wkid": 2157,
"latestWkid": 2157,
"xyTolerance": 0.001,
"zTolerance": 0.001,
"mTolerance": 0.001,
"falseX": -5022200,
"falseY": -15179500,
"xyUnits": 4.503464523434792E8,
"falseZ": -100000,
"zUnits": 10000,
"falseM": -100000,
"mUnits": 10000
},
"lods": [
{
"level": 0,
"resolution": 1058.3354500042335,
"scale": 4000000
},
{
"level": 1,
"resolution": 661.4596562526459,
"scale": 2500000
},
{
"level": 2,
"resolution": 330.72982812632296,
"scale": 1250000
},
{
"level": 3,
"resolution": 158.75031750063502,
"scale": 600000
},
{
"level": 4,
"resolution": 105.83354500042334,
"scale": 400000
},
{
"level": 5,
"resolution": 52.91677250021167,
"scale": 200000
},
{
"level": 6,
"resolution": 26.458386250105836,
"scale": 100000
},
{
"level": 7,
"resolution": 13.229193125052918,
"scale": 50000
},
{
"level": 8,
"resolution": 6.614596562526459,
"scale": 25000
},
{
"level": 9,
"resolution": 2.6458386250105836,
"scale": 10000
},
{
"level": 10,
"resolution": 1.3229193125052918,
"scale": 5000
},
{
"level": 11,
"resolution": 0.6614596562526459,
"scale": 2500
},
{
"level": 12,
"resolution": 0.26458386250105836,
"scale": 1000
}
]
},
"initialExtent": {
"xmin": 229597.06851919944,
"ymin": 480189.8834018996,
"xmax": 922332.5163808006,
"ymax": 999741.4692981006,
"spatialReference": {
"wkid": 2157,
"latestWkid": 2157,
"xyTolerance": 0.001,
"zTolerance": 2,
"mTolerance": 2,
"falseX": -5022200,
"falseY": -15179500,
"xyUnits": 4.503464523434792E8,
"falseZ": 0,
"zUnits": 1,
"falseM": -100000,
"mUnits": 10000
}
},
"fullExtent": {
"xmin": 417434.4497999996,
"ymin": 520073.68400000036,
"xmax": 734495.1350999996,
"ymax": 959857.6687000003,
"spatialReference": {
"wkid": 2157,
"latestWkid": 2157,
"xyTolerance": 0.001,
"zTolerance": 2,
"mTolerance": 2,
"falseX": -5022200,
"falseY": -15179500,
"xyUnits": 4.503464523434792E8,
"falseZ": 0,
"zUnits": 1,
"falseM": -100000,
"mUnits": 10000
}
},
"minScale": 4000000,
"maxScale": 10000,
"minLOD": 0,
"maxLOD": 9,
"units": "esriMeters",
"supportedImageFormatTypes": "PNG32,PNG24,PNG,JPG,DIB,TIFF,EMF,PS,PDF,GIF,SVG,SVGZ,BMP",
"documentInfo": {
"Title": "IE_GSI_Groundwater_Recharge_40K_IE26_ITM",
"Author": "",
"Comments": "",
"Subject": "",
"Category": "",
"AntialiasingMode": "None",
"TextAntialiasingMode": "Force",
"Keywords": "Ireland,IE/GSI,Geology,Groundwater,Recharge"
},
"capabilities": "Map,Query,Data",
"supportedQueryFormats": "JSON, geoJSON, PBF",
"exportTilesAllowed": false,
"referenceScale": 0.0,
"datumTransformations": [
{
"geoTransforms": [
{
"wkid": 108001,
"latestWkid": 1241,
"transformForward": true,
"name": "NAD_1927_To_NAD_1983_NADCON"
}
]
},
{
"geoTransforms": [
{
"wkid": 108001,
"latestWkid": 1241,
"transformForward": false,
"name": "NAD_1927_To_NAD_1983_NADCON"
}
]
}
],
"supportsDatumTransformation": true,
"archivingInfo": {"supportsHistoricMoment": false},
"supportsClipping": true,
"supportsSpatialFilter": true,
"supportsQueryDataElements": true,
"maxRecordCount": 2000,
"maxImageHeight": 4096,
"maxImageWidth": 4096,
"supportedExtensions": "",
"serviceItemId": "3c4f4e6f1cdf4c43bf5572d00047b7b0"
}