{ "currentVersion": 10.81, "cimVersion": "2.6.0", "serviceDescription": "

LiDAR (Light Detection and Ranging) is a remote sensing technology, i.e. the technology is not in direct contact with what is being measured. From satellite, aeroplane or helicopter, a LiDAR system sends a light pulse to the ground. This pulse hits the ground and returns back to a sensor on the system. The time is recorded to measure how long it takes for this light to return. <\/SPAN><\/SPAN><\/P>
Knowing this time measurement scientists are able to create topography maps.<\/SPAN><\/SPAN><\/P>
LiDAR data are collected as points (X,Y,Z (x & y coordinates) and z (height)). The data is then converted into gridded (GeoTIFF) data to create a Digital Terrain Model and Digital Surface Model of the earth. This LiDAR data was collected in November2020.<\/SPAN><\/SPAN><\/P>
Digital Terrain Models (DTM) are bare earth models (no trees or buildings) of the Earth<\/SPAN><\/SPAN>\u2019<\/SPAN><\/SPAN>s surface.<\/SPAN><\/SPAN><\/P>
Digital Surface Models (DSM) are earth models in its current state. For example, a DSM includes elevations from buildings, tree canopy, electrical power lines and other features.<\/SPAN><\/SPAN><\/P>
Hillshading is a method which gives a 3D appearance to the terrain. It shows the shape of hills and mountains using shading (levels of grey) on a map, by the use of graded shadows that would be cast by high ground if light was shining from a chosen direction.<\/SPAN><\/SPAN><\/P>
This data shows the hillshade of the DTM.<\/SPAN><\/SPAN><\/P>
This data was collected by the Westmeath County Council. All data formats are provided as GeoTIFF rasters. <\/SPAN><\/SPAN><\/P>
Raster data is another name for gridded data. Raster data stores information in pixels (grid cells). Each raster grid makes up a matrix of cells (or pixels) organised into rows and columns. The data has a grid cell size of of 0.25 meter by 0.25 meter. This means that each cell (pixel) represents an area of 25 centimetres squared.<\/SPAN><\/SPAN><\/P><\/DIV><\/DIV><\/DIV>", "mapName": "LiDAR WMCC Index", "description": "

LiDAR (Light Detection and Ranging) is a remote sensing technology, i.e. the technology is not in direct contact with what is being measured. From satellite, aeroplane or helicopter, a LiDAR system sends a light pulse to the ground. This pulse hits the ground and returns back to a sensor on the system. The time is recorded to measure how long it takes for this light to return. <\/SPAN><\/SPAN><\/P>
Knowing this time measurement scientists are able to create topography maps.<\/SPAN><\/SPAN><\/P>
LiDAR data are collected as points (X,Y,Z (x & y coordinates) and z (height)). The data is then converted into gridded (GeoTIFF) data to create a Digital Terrain Model and Digital Surface Model of the earth. This LiDAR data was collected in November2020.<\/SPAN><\/SPAN><\/P>
Digital Terrain Models (DTM) are bare earth models (no trees or buildings) of the Earth<\/SPAN><\/SPAN>\u2019<\/SPAN><\/SPAN>s surface.<\/SPAN><\/SPAN><\/P>
Digital Surface Models (DSM) are earth models in its current state. For example, a DSM includes elevations from buildings, tree canopy, electrical power lines and other features.<\/SPAN><\/SPAN><\/P>
Hillshading is a method which gives a 3D appearance to the terrain. It shows the shape of hills and mountains using shading (levels of grey) on a map, by the use of graded shadows that would be cast by high ground if light was shining from a chosen direction.<\/SPAN><\/SPAN><\/P>
This data shows the hillshade of the DTM.<\/SPAN><\/SPAN><\/P>
This data was collected by the Westmeath County Council. All data formats are provided as GeoTIFF rasters. <\/SPAN><\/SPAN><\/P>
Raster data is another name for gridded data. Raster data stores information in pixels (grid cells). Each raster grid makes up a matrix of cells (or pixels) organised into rows and columns. The data has a grid cell size of of 0.25 meter by 0.25 meter. This means that each cell (pixel) represents an area of 25 centimetres squared.<\/SPAN><\/SPAN><\/P><\/DIV><\/DIV><\/DIV>", "copyrightText": "Contains Irish Public Sector Data (Geological Survey Ireland & Westmeath County Council) licensed under a Creative Commons Attribution 4.0 International (CC BY 4.0) licence.", "supportsDynamicLayers": true, "layers": [ { "id": 0, "name": "LiDAR DTM Hillshade Westmeath Co Co 25cm Westmeath (ROI) ITM MH TIFF", "parentLayerId": -1, "defaultVisibility": true, "subLayerIds": null, "minScale": 0, "maxScale": 0, "type": "Raster Layer", "supportsDynamicLegends": true } ], "tables": [], "spatialReference": { "wkid": 2157, "latestWkid": 2157, "xyTolerance": 0.001, "zTolerance": 2.0E-4, "mTolerance": 2.0E-4, "falseX": -5022200, "falseY": -15179500, "xyUnits": 4.503464523434792E8, "falseZ": -100000, "zUnits": 10000, "falseM": -100000, "mUnits": 10000 }, "singleFusedMapCache": true, "tileInfo": { "rows": 256, "cols": 256, "dpi": 96, "format": "PNG", "compressionQuality": 0, "origin": { "x": -5022200, "y": 4821100 }, "spatialReference": { "wkid": 2157, "latestWkid": 2157, "xyTolerance": 0.001, "zTolerance": 0.001, "mTolerance": 0.001, "falseX": -5022200, "falseY": -15179500, "xyUnits": 4.503464523434792E8, "falseZ": -100000, "zUnits": 10000, "falseM": -100000, "mUnits": 10000 }, "lods": [ { "level": 0, "resolution": 1058.3354500042335, "scale": 4000000 }, { "level": 1, "resolution": 661.4596562526459, "scale": 2500000 }, { "level": 2, "resolution": 330.72982812632296, "scale": 1250000 }, { "level": 3, "resolution": 158.75031750063502, "scale": 600000 }, { "level": 4, "resolution": 105.83354500042334, "scale": 400000 }, { "level": 5, "resolution": 52.91677250021167, "scale": 200000 }, { "level": 6, "resolution": 26.458386250105836, "scale": 100000 }, { "level": 7, "resolution": 13.229193125052918, "scale": 50000 }, { "level": 8, "resolution": 6.614596562526459, "scale": 25000 }, { "level": 9, "resolution": 2.6458386250105836, "scale": 10000 }, { "level": 10, "resolution": 1.3229193125052918, "scale": 5000 }, { "level": 11, "resolution": 0.6614596562526459, "scale": 2500 }, { "level": 12, "resolution": 0.26458386250105836, "scale": 1000 } ] }, "initialExtent": { "xmin": 626411.5385976537, "ymin": 747417.5936985929, "xmax": 631588.4562023462, "ymax": 752582.4157014051, "spatialReference": { "wkid": 2157, "latestWkid": 2157, "xyTolerance": 0.001, "zTolerance": 2.0E-4, "mTolerance": 2.0E-4, "falseX": -5022200, "falseY": -15179500, "xyUnits": 4.503464523434792E8, "falseZ": -100000, "zUnits": 10000, "falseM": -100000, "mUnits": 10000 } }, "fullExtent": { "xmin": 626000, "ymin": 748000, "xmax": 632000, "ymax": 752000, "spatialReference": { "wkid": 2157, "latestWkid": 2157, "xyTolerance": 0.001, "zTolerance": 2.0E-4, "mTolerance": 2.0E-4, "falseX": -5022200, "falseY": -15179500, "xyUnits": 4.503464523434792E8, "falseZ": -100000, "zUnits": 10000, "falseM": -100000, "mUnits": 10000 } }, "minScale": 4000000, "maxScale": 1000, "minLOD": 0, "maxLOD": 12, "units": "esriMeters", "supportedImageFormatTypes": "PNG32,PNG24,PNG,JPG,DIB,TIFF,EMF,PS,PDF,GIF,SVG,SVGZ,BMP", "documentInfo": { "Title": "C:\\PROPROJECTS\\Template1\\Template1.aprx", "Author": "", "Comments": "", "Subject": "", "Category": "", "AntialiasingMode": "None", "TextAntialiasingMode": "Force", "Keywords": "Ireland,IE/GSI,LiDAR,Topographic,Elevation,Westmeath,Hillshade,DTM,Digital Terrain Model" }, "capabilities": "Map,Query,Data", "supportedQueryFormats": "JSON, geoJSON, PBF", "exportTilesAllowed": false, "referenceScale": 0.0, "supportsDatumTransformation": true, "archivingInfo": {"supportsHistoricMoment": false}, "supportsClipping": true, "supportsSpatialFilter": true, "supportsQueryDataElements": true, "maxRecordCount": 2000, "maxImageHeight": 4096, "maxImageWidth": 4096, "supportedExtensions": "", "serviceItemId": "66aecd287580496bb1a1b3c9205c1b25" }