{ "currentVersion": 10.81, "cimVersion": "2.6.0", "serviceDescription": "

\u201cAggregates\u201d<\/SPAN><\/SPAN> is the term geologists use to describe rocks used for building and construction purposes. Aggregate Potential Mapping aims to identify areas where aggregate is most likely to be found.<\/SPAN> The bedrock geological map is the foundation of crushed rock <\/SPAN>Aggregate Potential<\/SPAN> evaluation. <\/SPAN><\/P>
This map shows the <\/SPAN>bedrock<\/SPAN> geology<\/SPAN> (2006)<\/SPAN> used to create the crushed rock <\/SPAN>aggregate potential across Ireland.<\/SPAN> The rock units are listed alphabetically rather than stratigraphic<\/SPAN>ally (age).<\/SPAN><\/P>
This map is to the scale 1:<\/SPAN>10<\/SPAN>0,000. This means it should be viewed at that scale. When printed at that scale 1cm on the map relates to a distance of <\/SPAN>1km<\/SPAN>.<\/SPAN><\/P>
It is a vector dataset. Vector data portray the world using points, lines, and polygons (areas). The data is shown as polygons. Each polygon holds information on the county it is located<\/SPAN>, the bedrock 100k sheet number, rock unit name, rock unit code, rock unit description, geographic viability, primary rock type, secondary rock type,<\/SPAN>d<\/SPAN>eleterious substances<\/SPAN>, quarries, scores<\/SPAN> and the area in m2.<\/SPAN><\/P>
Please read the <\/SPAN>metadata <\/SPAN>lineage for further information.<\/SPAN><\/P><\/DIV><\/DIV><\/DIV>", "mapName": "IE_GSI_Aggregate_Potential_Mapping_Bedrock_Geology_Scores_100K_IE26_ITM", "description": "\u201cAggregates\u201d is the term geologists use to describe rocks used for building and construction purposes. Aggregate Potential Mapping aims to identify areas where aggregate is most likely to be found. The bedrock geological map is the foundation of crushed rock Aggregate Potential evaluation. This map shows the bedrock geology (2006) used to create the crushed rock aggregate potential across Ireland. The rock units are listed alphabetically rather than stratigraphically (age).This map is to the scale 1:100,000. This means it should be viewed at that scale. When printed at that scale 1cm on the map relates to a distance of 1km.It is a vector dataset. Vector data portray the world using points, lines, and polygons (areas). The data is shown as polygons. Each polygon holds information on the county it is located, the bedrock 100k sheet number, rock unit name, rock unit code, rock unit description, geographic viability, primary rock type, secondary rock type,deleterious substances, quarries, scores and the area in m2.Please read the metadata lineage for further information.", "copyrightText": "Geological Survey Ireland", "supportsDynamicLayers": false, "layers": [ { "id": 0, "name": "IE_GSI_Aggregate_Potential_Mapping_Bedrock_Geology_Scores_100K_IE26_ITM", "parentLayerId": -1, "defaultVisibility": true, "subLayerIds": null, "minScale": 0, "maxScale": 0, "type": "Feature Layer", "geometryType": "esriGeometryPolygon", "supportsDynamicLegends": true } ], "tables": [], "spatialReference": { "wkid": 2157, "latestWkid": 2157, "xyTolerance": 0.001, "zTolerance": 0.001, "mTolerance": 0.001, "falseX": -5022200, "falseY": -15179500, "xyUnits": 10000, "falseZ": -100000, "zUnits": 10000, "falseM": -100000, "mUnits": 10000 }, "singleFusedMapCache": true, "tileInfo": { "rows": 256, "cols": 256, "dpi": 96, "format": "PNG", "compressionQuality": 0, "origin": { "x": -5022200, "y": 4821100 }, "spatialReference": { "wkid": 2157, "latestWkid": 2157, "xyTolerance": 0.001, "zTolerance": 0.001, "mTolerance": 0.001, "falseX": -5022200, "falseY": -15179500, "xyUnits": 4.503464523434792E8, "falseZ": -100000, "zUnits": 10000, "falseM": -100000, "mUnits": 10000 }, "lods": [ { "level": 0, "resolution": 1058.3354500042335, "scale": 4000000 }, { "level": 1, "resolution": 661.4596562526459, "scale": 2500000 }, { "level": 2, "resolution": 330.72982812632296, "scale": 1250000 }, { "level": 3, "resolution": 158.75031750063502, "scale": 600000 }, { "level": 4, "resolution": 105.83354500042334, "scale": 400000 }, { "level": 5, "resolution": 52.91677250021167, "scale": 200000 }, { "level": 6, "resolution": 26.458386250105836, "scale": 100000 }, { "level": 7, "resolution": 13.229193125052918, "scale": 50000 }, { "level": 8, "resolution": 6.614596562526459, "scale": 25000 }, { "level": 9, "resolution": 2.6458386250105836, "scale": 10000 }, { "level": 10, "resolution": 1.3229193125052918, "scale": 5000 }, { "level": 11, "resolution": 0.6614596562526459, "scale": 2500 }, { "level": 12, "resolution": 0.26458386250105836, "scale": 1000 } ] }, "initialExtent": { "xmin": 306726.93587328185, "ymin": 498052.9676737301, "xmax": 845648.2005267183, "ymax": 981850.620926271, "spatialReference": { "wkid": 2157, "latestWkid": 2157, "xyTolerance": 0.001, "zTolerance": 0.001, "mTolerance": 0.001, "falseX": -5022200, "falseY": -15179500, "xyUnits": 10000, "falseZ": -100000, "zUnits": 10000, "falseM": -100000, "mUnits": 10000 } }, "fullExtent": { "xmin": 417969.8893, "ymin": 520073.6844, "xmax": 734405.2471, "ymax": 959829.904200001, "spatialReference": { "wkid": 2157, "latestWkid": 2157, "xyTolerance": 0.001, "zTolerance": 0.001, "mTolerance": 0.001, "falseX": -5022200, "falseY": -15179500, "xyUnits": 10000, "falseZ": -100000, "zUnits": 10000, "falseM": -100000, "mUnits": 10000 } }, "minScale": 4000000, "maxScale": 2500, "units": "esriMeters", "supportedImageFormatTypes": "PNG32,PNG24,PNG,JPG,DIB,TIFF,EMF,PS,PDF,GIF,SVG,SVGZ,BMP", "documentInfo": { "Title": "IE_GSI_Aggregate_Potential_Mapping_Bedrock_Geology_Scores_100K_IE26_ITM", "Author": "", "Comments": "", "Subject": "", "Category": "", "AntialiasingMode": "None", "TextAntialiasingMode": "Force", "Keywords": "Ireland,IE/GSI,Geology,Mineral Resource,Aggregate,Potential,Mapping,Bedrock" }, "capabilities": "Query,Map,Data", "supportedQueryFormats": "JSON, geoJSON, PBF", "exportTilesAllowed": false, "referenceScale": 0.0, "supportsDatumTransformation": true, "archivingInfo": {"supportsHistoricMoment": false}, "supportsClipping": true, "supportsSpatialFilter": true, "supportsQueryDataElements": true, "maxRecordCount": 2000, "maxImageHeight": 4096, "maxImageWidth": 4096, "supportedExtensions": "FeatureServer, WMSServer", "serviceItemId": "aa94d57320234b0283509c6f2b98c4f9" }