{ "currentVersion": 10.81, "cimVersion": "2.6.0", "serviceDescription": "

The term Physiography can be described <\/SPAN><\/SPAN>as a blending <\/SPAN><\/SPAN>of \u201c<\/SPAN><\/SPAN>physi<\/SPAN><\/SPAN>cal\" and \"ge<\/SPAN><\/SPAN>ography<\/SPAN><\/SPAN>\"<\/SPAN><\/SPAN>.<\/SPAN><\/SPAN><\/P>
Physiographic Units show Ireland<\/SPAN><\/SPAN>\u2019<\/SPAN><\/SPAN>s physical landscape divided into categories such as <\/SPAN><\/SPAN>\u2018<\/SPAN><\/SPAN>Bedrock plain<\/SPAN><\/SPAN>\u2019<\/SPAN><\/SPAN> and <\/SPAN><\/SPAN>\u2018<\/SPAN><\/SPAN>Flat to undulating sediments<\/SPAN><\/SPAN>\u2019<\/SPAN><\/SPAN>. <\/SPAN><\/SPAN>Areas are grouped based on bedrock geology (solid rock at or below the land surface), Quaternary (largely Ice Age) sediments and geomorphology (landforms). <\/SPAN><\/SPAN>Digital Elevation Models (DEMs) and Aerial photography are also used.<\/SPAN><\/SPAN><\/P>
Three maps were made, each giving a different level of detail.<\/SPAN><\/SPAN><\/P>
The Level 1 map has 7 categories. These show bedrock landscapes at different heights above sea level such as mountains (more than 300 m), hills (100 to 300 m) and plains (less than 100 m). Sediment (sand, gravel and soil) landscapes are grouped by slopes, such as rolling (gentle hills), hummocky (small lumpy hills) and flat.<\/SPAN><\/SPAN><\/P>
The Level 2 map has 16 categories. These show bedrock landscapes with different texture (how rough or smooth it is) or rugosity (how wrinkly it is), depending on the bedrock type (e.g. granite bedrock evolves into rounded mountains or hills). Sediment (sand, gravel and soil) landscapes are grouped by the type of geological process shaping them eg (Drumlin and ribbed moraine topography).<\/SPAN><\/P>
<\/P>
The Level 3 map has 29 categories. This is the most complex and further categorises in a similar way to level 2. <\/SPAN><\/SPAN><\/P>
Areas were mapped at scales ranging from 1:30,000 to 1:100,000 (1cm on the map relates to 1km). The map is designed to be used at 1:250,000 scale (1cm on the map relates to 2.5km). <\/SPAN><\/SPAN><\/P>
It is a vector dataset. Vector data portray the world using points, lines, and polygons (areas).<\/SPAN><\/SPAN><\/P>
This data is shown as polygons. Each polygon has a unique identifier and its landscape category. <\/SPAN><\/P><\/DIV><\/DIV><\/DIV>", "mapName": "IE_GSI_Physiographic_Units_Level_1_250k_IE26_ITM", "description": "The term Physiography can be described as a blending of \u201cphysical\" and \"geography\".Physiographic Units show Ireland\u2019s physical landscape divided into categories such as \u2018Bedrock plain\u2019 and \u2018Flat to undulating sediments\u2019. Areas are grouped based on bedrock geology (solid rock at or below the land surface), Quaternary (largely Ice Age) sediments and geomorphology (landforms). Digital Elevation Models (DEMs) and Aerial photography are also used.Three maps were made, each giving a different level of detail.The Level 1 map has 7 categories. These show bedrock landscapes at different heights above sea level such as mountains (more than 300 m), hills (100 to 300 m) and plains (less than 100 m). Sediment (sand, gravel and soil) landscapes are grouped by slopes, such as rolling (gentle hills), hummocky (small lumpy hills) and flat.The Level 2 map has 16 categories. These show bedrock landscapes with different texture (how rough or smooth it is) or rugosity (how wrinkly it is), depending on the bedrock type (e.g. granite bedrock evolves into rounded mountains or hills). Sediment (sand, gravel and soil) landscapes are grouped by the type of geological process shaping them eg (Drumlin and ribbed moraine topography).The Level 3 map has 29 categories. This is the most complex and further categorises in a similar way to level 2. Areas were mapped at scales ranging from 1:30,000 to 1:100,000 (1cm on the map relates to 1km). The map is designed to be used at 1:250,000 scale (1cm on the map relates to 2.5km). It is a vector dataset. Vector data portray the world using points, lines, and polygons (areas).This data is shown as polygons. Each polygon has a unique identifier and its landscape category. ", "copyrightText": "Geological Survey Ireland", "supportsDynamicLayers": false, "layers": [ { "id": 0, "name": "IE_GSI_Physiographic_Units_Level_1_250k_IE26_ITM", "parentLayerId": -1, "defaultVisibility": true, "subLayerIds": null, "minScale": 0, "maxScale": 0, "type": "Feature Layer", "geometryType": "esriGeometryPolygon", "supportsDynamicLegends": true }, { "id": 1, "name": "IE_GSI_EPA_Hydrologically_Corrected_DTM_HS_20m_IE26_ITM_MH_TIFF", "parentLayerId": -1, "defaultVisibility": true, "subLayerIds": null, "minScale": 0, "maxScale": 0, "type": "Raster Layer", "supportsDynamicLegends": true } ], "tables": [], "spatialReference": { "wkid": 2157, "latestWkid": 2157, "xyTolerance": 0.001, "zTolerance": 0.001, "mTolerance": 0.001, "falseX": -5022200, "falseY": -15179500, "xyUnits": 4.503464523434792E8, "falseZ": -100000, "zUnits": 10000, "falseM": -100000, "mUnits": 10000 }, "singleFusedMapCache": true, "tileInfo": { "rows": 256, "cols": 256, "dpi": 96, "format": "PNG", "compressionQuality": 0, "origin": { "x": -5022200, "y": 4821100 }, "spatialReference": { "wkid": 2157, "latestWkid": 2157, "xyTolerance": 0.001, "zTolerance": 0.001, "mTolerance": 0.001, "falseX": -5022200, "falseY": -15179500, "xyUnits": 4.503464523434792E8, "falseZ": -100000, "zUnits": 10000, "falseM": -100000, "mUnits": 10000 }, "lods": [ { "level": 0, "resolution": 1058.3354500042335, "scale": 4000000 }, { "level": 1, "resolution": 661.4596562526459, "scale": 2500000 }, { "level": 2, "resolution": 330.72982812632296, "scale": 1250000 }, { "level": 3, "resolution": 158.75031750063502, "scale": 600000 }, { "level": 4, "resolution": 105.83354500042334, "scale": 400000 }, { "level": 5, "resolution": 52.91677250021167, "scale": 200000 }, { "level": 6, "resolution": 26.458386250105836, "scale": 100000 }, { "level": 7, "resolution": 13.229193125052918, "scale": 50000 }, { "level": 8, "resolution": 6.614596562526459, "scale": 25000 }, { "level": 9, "resolution": 2.6458386250105836, "scale": 10000 }, { "level": 10, "resolution": 1.3229193125052918, "scale": 5000 }, { "level": 11, "resolution": 0.6614596562526459, "scale": 2500 }, { "level": 12, "resolution": 0.26458386250105836, "scale": 1000 } ] }, "initialExtent": { "xmin": 335614.6220437012, "ymin": 489769.92464158987, "xmax": 882500.6624935367, "ymax": 1001086.1413223303, "spatialReference": { "wkid": 2157, "latestWkid": 2157, "xyTolerance": 0.001, "zTolerance": 0.001, "mTolerance": 0.001, "falseX": -5022200, "falseY": -15179500, "xyUnits": 4.503464523434792E8, "falseZ": -100000, "zUnits": 10000, "falseM": -100000, "mUnits": 10000 } }, "fullExtent": { "xmin": 289111.7418, "ymin": 515060.54870795604, "xmax": 740449.133845756, "ymax": 965740.548707956, "spatialReference": { "wkid": 2157, "latestWkid": 2157, "xyTolerance": 0.001, "zTolerance": 0.001, "mTolerance": 0.001, "falseX": -5022200, "falseY": -15179500, "xyUnits": 4.503464523434792E8, "falseZ": -100000, "zUnits": 10000, "falseM": -100000, "mUnits": 10000 } }, "minScale": 4000000, "maxScale": 2500, "minLOD": 0, "maxLOD": 11, "units": "esriMeters", "supportedImageFormatTypes": "PNG32,PNG24,PNG,JPG,DIB,TIFF,EMF,PS,PDF,GIF,SVG,SVGZ,BMP", "documentInfo": { "Title": "IE GSI Physiographic Units Level 1 250k Ireland (ROI) ITM", "Author": "", "Comments": "The term Physiography can be described as a blending of \u201cphysical\" and \"geography\".Physiographic Units show Ireland\u2019s physical landscape divided into categories such as \u2018Bedrock plain\u2019 and \u2018Flat to undulating sediments\u2019. Areas are grouped based on bedrock geology (solid rock at or below the land surface), Quaternary (largely Ice Age) sediments and geomorphology (landforms). Digital Elevation Models (DEMs) and Aerial photography are also used.Three maps were made, each giving a different level of detail.The Level 1 map has 7 categories. These show bedrock landscapes at different heights above sea level such as mountains (more than 300 m), hills (100 to 300 m) and plains (less than 100 m). Sediment (sand, gravel and soil) landscapes are grouped by slopes, such as rolling (gentle hills), hummocky (small lumpy hills) and flat.The Level 2 map has 16 categories. These show bedrock landscapes with different texture (how rough or smooth it is) or rugosity (how wrinkly it is), depending on the bedrock type (e.g. granite bedrock evolves into rounded mountains or hills). Sediment (sand, gravel and soil) landscapes are grouped by the type of geological process shaping them eg (Drumlin and ribbed moraine topography).The Level 3 map has 29 categories. This is the most complex and further categorises in a similar way to level 2. Areas were mapped at scales ranging from 1:30,000 to 1:100,000 (1cm on the map relates to 1km). The map is designed to be used at 1:250,000 scale (1cm on the map relates to 2.5km). It is a vector dataset. Vector data portray the world using points, lines, and polygons (areas).This data is shown as polygons. Each polygon has a unique identifier and its landscape category. ", "Subject": "Physiographic Units show Ireland\u2019s physical landscape divided into categories.\n\nThis map is useful for regional land-use planning. It can assist in deciding areas suited for land-uses, such as farming, building houses and roads, and finding natural resources.\n\nThe map provides clues to our past and helps us to find out how the earth has evolved. The processes of how our landscape was created help us understand the principles of geology.\n\nIn terms of ecology, the physical landscape has an influence.", "Category": "", "AntialiasingMode": "None", "TextAntialiasingMode": "Force", "Keywords": "Ireland,IE/GSI,Geology,landscape" }, "capabilities": "Map,Query,Data", "supportedQueryFormats": "JSON, geoJSON, PBF", "exportTilesAllowed": false, "referenceScale": 0.0, "datumTransformations": [ { "geoTransforms": [ { "wkt": "GEOGTRAN[\"TM65_To_ETRS_1989_NTv2\",GEOGCS[\"GCS_TM65\",DATUM[\"D_TM65\",SPHEROID[\"Airy_Modified\",6377340.189,299.3249646]],PRIMEM[\"Greenwich\",0.0],UNIT[\"Degree\",0.0174532925199433]],GEOGCS[\"GCS_ETRS_1989\",DATUM[\"D_ETRS_1989\",SPHEROID[\"GRS_1980\",6378137.0,298.257222101]],PRIMEM[\"Greenwich\",0.0],UNIT[\"Degree\",0.0174532925199433]],METHOD[\"NTv2\"],PARAMETER[\"Dataset_ireland/tm75_etrs89.gsb\",0.0]]", "transformForward": true, "name": "TM65_To_ETRS_1989_NTv2" }, { "wkid": 1611, "latestWkid": 1611, "transformForward": false, "name": "IRENET95_To_ETRS_1989" } ] }, { "geoTransforms": [ { "wkid": 1611, "latestWkid": 1611, "transformForward": true, "name": "IRENET95_To_ETRS_1989" }, { "wkt": "GEOGTRAN[\"TM65_To_ETRS_1989_NTv2\",GEOGCS[\"GCS_TM65\",DATUM[\"D_TM65\",SPHEROID[\"Airy_Modified\",6377340.189,299.3249646]],PRIMEM[\"Greenwich\",0.0],UNIT[\"Degree\",0.0174532925199433]],GEOGCS[\"GCS_ETRS_1989\",DATUM[\"D_ETRS_1989\",SPHEROID[\"GRS_1980\",6378137.0,298.257222101]],PRIMEM[\"Greenwich\",0.0],UNIT[\"Degree\",0.0174532925199433]],METHOD[\"NTv2\"],PARAMETER[\"Dataset_ireland/tm75_etrs89.gsb\",0.0]]", "transformForward": false, "name": "TM65_To_ETRS_1989_NTv2" } ] } ], "supportsDatumTransformation": true, "archivingInfo": {"supportsHistoricMoment": false}, "supportsClipping": true, "supportsSpatialFilter": true, "supportsQueryDataElements": true, "maxRecordCount": 2000, "maxImageHeight": 4096, "maxImageWidth": 4096, "supportedExtensions": "FeatureServer, WMSServer", "serviceItemId": "2ed59f730d6c4c538e6134eb4695c5a4" }