{ "currentVersion": 10.81, "cimVersion": "2.6.0", "serviceDescription": "
The Groundwater Vulnerability map shows land areas across Ireland where groundwater can be easily polluted. It also shows areas where it is well protected by the subsoil layers. <\/SPAN><\/SPAN><\/P> The vulnerability category given to a site or an area is based on how easy it is for water which may contain pollutants to reach the groundwater. <\/SPAN><\/SPAN><\/P> Geologists map and record information on the subsoils above the bedrock. They find out how deep the subsoil is and how permeable it is (how easy water can pass through it).<\/SPAN><\/SPAN><\/P> They use information from quarries, deep pits and from boreholes (a deep narrow round hole drilled in the ground). <\/SPAN><\/SPAN><\/P> Subsoil depth, type and permeability maps are combined to work out the groundwater vulnerability at that location.<\/SPAN><\/SPAN><\/P> Landforms found in the Irish landscape like sinkholes and sinking streams (<\/SPAN><\/SPAN>\u2018<\/SPAN><\/SPAN>karst<\/SPAN><\/SPAN>\u2019<\/SPAN><\/SPAN> landforms) are categorised as extremely vulnerable as water can pass straight through.<\/SPAN><\/SPAN><\/P> Where the water table is close to the surface in sand and gravel aquifers, groundwater vulnerability is also extremely vulnerable.<\/SPAN><\/SPAN><\/P> This Groundwater Vulnerability map is to the scale 1:40,000. This means it should be viewed at that scale. When printed at that scale 1cm on the map relates to a distance of 400m.<\/SPAN><\/SPAN><\/P> It is a vector dataset. Vector data portray the world using points, lines, and polygons (areas). The groundwater vulnerability data are shown as polygons. Each polygon holds information on the vulnerability category (X, E, H, M or L), a description explaining this (<\/SPAN>\u2018<\/SPAN><\/SPAN>Extreme <\/SPAN><\/SPAN>\u2013<\/SPAN><\/SPAN> rock at or near surface/karst<\/SPAN><\/SPAN>\u2019<\/SPAN><\/SPAN>, <\/SPAN><\/SPAN>\u2018<\/SPAN><\/SPAN>Extreme<\/SPAN><\/SPAN>\u2019<\/SPAN><\/SPAN>, <\/SPAN><\/SPAN>\u2018<\/SPAN><\/SPAN>High<\/SPAN><\/SPAN>\u2019<\/SPAN><\/SPAN>, <\/SPAN><\/SPAN>\u2018<\/SPAN><\/SPAN>Moderate<\/SPAN><\/SPAN>\u2019<\/SPAN><\/SPAN> or <\/SPAN><\/SPAN>\u2018<\/SPAN><\/SPAN>Low<\/SPAN><\/SPAN>\u2019<\/SPAN><\/SPAN>) and a unique id.<\/SPAN><\/P><\/DIV><\/DIV><\/DIV>",
"mapName": "IE GSI Groundwater Vulnerability 40k Ireland (ROI) ITM",
"description": "The Groundwater Vulnerability map shows land areas across Ireland where groundwater can be easily polluted. It also shows areas where it is well protected by the subsoil layers. The vulnerability category given to a site or an area is based on how easy it is for water which may contain pollutants to reach the groundwater. Geologists map and record information on the subsoils above the bedrock. They find out how deep the subsoil is and how permeable it is (how easy water can pass through it).They use information from quarries, deep pits and from boreholes (a deep narrow round hole drilled in the ground). Subsoil depth, type and permeability maps are combined to work out the groundwater vulnerability at that location.Landforms found in the Irish landscape like sinkholes and sinking streams (\u2018karst\u2019 landforms) are categorised as extremely vulnerable as water can pass straight through.Where the water table is close to the surface in sand and gravel aquifers, groundwater vulnerability is also extremely vulnerable.This Groundwater Vulnerability map is to the scale 1:40,000. This means it should be viewed at that scale. When printed at that scale 1cm on the map relates to a distance of 400m.It is a vector dataset. Vector data portray the world using points, lines, and polygons (areas). The groundwater vulnerability data are shown as polygons. Each polygon holds information on the vulnerability category (X, E, H, M or L), a description explaining this (\u2018Extreme \u2013 rock at or near surface/karst\u2019, \u2018Extreme\u2019, \u2018High\u2019, \u2018Moderate\u2019 or \u2018Low\u2019) and a unique id.",
"copyrightText": "Geological Survey Ireland",
"supportsDynamicLayers": false,
"layers": [
{
"id": 0,
"name": "IE_GSI_Groundwater_Vulnerability_40K_IE26_ITM",
"parentLayerId": -1,
"defaultVisibility": true,
"subLayerIds": null,
"minScale": 0,
"maxScale": 0,
"type": "Feature Layer",
"geometryType": "esriGeometryPolygon",
"supportsDynamicLegends": true
}
],
"tables": [],
"spatialReference": {
"wkid": 2157,
"latestWkid": 2157,
"xyTolerance": 0.001,
"zTolerance": 2,
"mTolerance": 2,
"falseX": -5022200,
"falseY": -15179500,
"xyUnits": 4.503464523434792E8,
"falseZ": 0,
"zUnits": 1,
"falseM": -100000,
"mUnits": 10000
},
"singleFusedMapCache": true,
"tileInfo": {
"rows": 256,
"cols": 256,
"dpi": 96,
"format": "PNG",
"compressionQuality": 0,
"origin": {
"x": -5022200,
"y": 4821100
},
"spatialReference": {
"wkid": 2157,
"latestWkid": 2157,
"xyTolerance": 0.001,
"zTolerance": 0.001,
"mTolerance": 0.001,
"falseX": -5022200,
"falseY": -15179500,
"xyUnits": 4.503464523434792E8,
"falseZ": -100000,
"zUnits": 10000,
"falseM": -100000,
"mUnits": 10000
},
"lods": [
{
"level": 0,
"resolution": 1058.3354500042335,
"scale": 4000000
},
{
"level": 1,
"resolution": 661.4596562526459,
"scale": 2500000
},
{
"level": 2,
"resolution": 330.72982812632296,
"scale": 1250000
},
{
"level": 3,
"resolution": 158.75031750063502,
"scale": 600000
},
{
"level": 4,
"resolution": 105.83354500042334,
"scale": 400000
},
{
"level": 5,
"resolution": 52.91677250021167,
"scale": 200000
},
{
"level": 6,
"resolution": 26.458386250105836,
"scale": 100000
},
{
"level": 7,
"resolution": 13.229193125052918,
"scale": 50000
},
{
"level": 8,
"resolution": 6.614596562526459,
"scale": 25000
},
{
"level": 9,
"resolution": 2.6458386250105836,
"scale": 10000
},
{
"level": 10,
"resolution": 1.3229193125052918,
"scale": 5000
},
{
"level": 11,
"resolution": 0.6614596562526459,
"scale": 2500
},
{
"level": 12,
"resolution": 0.26458386250105836,
"scale": 1000
}
]
},
"initialExtent": {
"xmin": 316072.73554316576,
"ymin": 450903.05643840594,
"xmax": 828797.3488568342,
"ymax": 1008947.6553615939,
"spatialReference": {
"wkid": 2157,
"latestWkid": 2157,
"xyTolerance": 0.001,
"zTolerance": 2,
"mTolerance": 2,
"falseX": -5022200,
"falseY": -15179500,
"xyUnits": 4.503464523434792E8,
"falseZ": 0,
"zUnits": 1,
"falseM": -100000,
"mUnits": 10000
}
},
"fullExtent": {
"xmin": 399986.5605,
"ymin": 499992.925100001,
"xmax": 744883.5239,
"ymax": 959857.786699999,
"spatialReference": {
"wkid": 2157,
"latestWkid": 2157,
"xyTolerance": 0.001,
"zTolerance": 2,
"mTolerance": 2,
"falseX": -5022200,
"falseY": -15179500,
"xyUnits": 4.503464523434792E8,
"falseZ": 0,
"zUnits": 1,
"falseM": -100000,
"mUnits": 10000
}
},
"minScale": 4000000,
"maxScale": 2500,
"maxLOD": 11,
"units": "esriMeters",
"supportedImageFormatTypes": "PNG32,PNG24,PNG,JPG,DIB,TIFF,EMF,PS,PDF,GIF,SVG,SVGZ,BMP",
"documentInfo": {
"Title": "IE_GSI_Groundwater_Vulnerability_40K_IE26_ITM",
"Author": "",
"Comments": "",
"Subject": "",
"Category": "",
"AntialiasingMode": "None",
"TextAntialiasingMode": "Force",
"Keywords": "Ireland,IE/GSI,Geology,hydrogeology,groundwater,vulnerability"
},
"capabilities": "Map,Query,Data",
"supportedQueryFormats": "JSON, geoJSON, PBF",
"exportTilesAllowed": false,
"referenceScale": 0.0,
"datumTransformations": [
{
"geoTransforms": [
{
"wkid": 108001,
"latestWkid": 1241,
"transformForward": true,
"name": "NAD_1927_To_NAD_1983_NADCON"
}
]
},
{
"geoTransforms": [
{
"wkid": 108001,
"latestWkid": 1241,
"transformForward": false,
"name": "NAD_1927_To_NAD_1983_NADCON"
}
]
}
],
"supportsDatumTransformation": true,
"archivingInfo": {"supportsHistoricMoment": false},
"supportsClipping": true,
"supportsSpatialFilter": true,
"supportsQueryDataElements": true,
"maxRecordCount": 2000,
"maxImageHeight": 4096,
"maxImageWidth": 4096,
"supportedExtensions": "FeatureServer, WMSServer",
"resampling": false,
"serviceItemId": "4bec74cc6b00498cae5e671093741a8c"
}