View In:
ArcGIS JavaScript
ArcGIS Online Map Viewer
ArcGIS Earth
ArcMap
View Footprint In:
ArcGIS Online Map Viewer
Service Description: Lidar/IE_GSI_LiDAR_DTM_HS_OPW_2m_IE26_ITM_MH_TIFF
Name: Lidar/IE_GSI_LiDAR_DTM_HS_OPW_2m_IE26_ITM_MH_TIFF
Description:
Single Fused Map Cache: true
Tile Info:
- Height: 256
- Width: 256
- DPI: 96
-
Levels of Detail: 13
- Format: PNG
- Compression Quality: 0.0
- LERC Error: NaN
- Origin: X: -5022200.0
Y: 4821100.0
- Spatial Reference: 2157
(2157)
Extent:
XMin: 440984.03098892904
YMin: 527070.430703469
XMax: 731309.474734116
YMax: 844004.1411993221
Spatial Reference: 2157
(2157)
Initial Extent:
XMin: 440984.03098892904
YMin: 527070.430703469
XMax: 731309.474734116
YMax: 844004.1411993221
Spatial Reference: 2157
(2157)
Full Extent:
XMin: 440984.03098892904
YMin: 527070.430703469
XMax: 731309.474734116
YMax: 844004.1411993221
Spatial Reference: 2157
(2157)
Pixel Size X: 1.9995691539952543
Pixel Size Y: 1.9995691541116656
Band Count: 1
Pixel Type: U8
RasterFunction Infos: {"rasterFunctionInfos": [{
"name": "None",
"description": "",
"help": ""
}]}
Mensuration Capabilities: Basic
Has Histograms: true
Has Colormap: false
Has Multi Dimensions : false
Rendering Rule:
Min Scale: 4000000
Max Scale: 2500
Min LOD: 0
Max LOD: 11
Copyright Text:
Service Data Type: esriImageServiceDataTypeGeneric
Min Values: 1
Max Values: 255
Mean Values: 166.14341684289988
Standard Deviation Values: 48.466187923663846
Object ID Field:
Fields:
None
Default Mosaic Method: Center
Allowed Mosaic Methods:
SortField:
SortValue: null
Mosaic Operator: First
Default Compression Quality: 75
Default Resampling Method: Bilinear
Max Record Count: null
Max Image Height: 4100
Max Image Width: 15000
Max Download Image Count: null
Max Mosaic Image Count: null
Allow Raster Function: true
Allow Copy: true
Allow Analysis: true
Allow Compute TiePoints: false
Supports Statistics: false
Supports Advanced Queries: false
Use StandardizedQueries: true
Raster Type Infos:
Name: Raster Dataset
Description: Supports all ArcGIS Raster Datasets
Help:
Has Raster Attribute Table: false
Edit Fields Info: null
Ownership Based AccessControl For Rasters: null
Child Resources:
Info
Histograms
Statistics
Key Properties
Legend
Raster Function Infos
Supported Operations:
Export Image
Identify
Measure
Compute Histograms
Compute Statistics Histograms
Get Samples
Compute Class Statistics
Query Boundary
Compute Pixel Location
Validate
Project