View In:
ArcGIS JavaScript
ArcGIS Online Map Viewer
ArcGIS Earth
ArcMap
ArcGIS Pro
View Footprint In:
ArcGIS Online Map Viewer
Service Description: Research ships working at sea map the seafloor. The ships collect bathymetry data. Bathymetry is the measurement of how deep the sea is. Bathymetry is the study of the shape and features of the seabed. The name comes from Greek words meaning "deep" and “measure". Backscatter is the measurement of how hard the seabed is.
Bathymetry and backscatter data are collected on board boats working at sea. The boats use special equipment called a multibeam echosounder. A multibeam echosounder is a type of sonar that is used to map the seabed. Sound waves are emitted in a fan shape beneath the boat. The amount of time it takes for the sound waves to bounce off the bottom of the sea and return to a receiver is used to find out the water depth. The strength of the sound wave is used to find out how hard the bottom of the sea is. A strong sound wave indicates a hard surface (rocks, gravel), and a weak signal indicates a soft surface (silt, mud). The word backscatter comes from the fact that different bottom types “scatter” sound waves differently.
Using the equipment also allows predictions as to the type of material present on the seabed e.g. rocks, pebbles, sand, mud. To confirm this, sediment samples are taken from the seabed. This process is called ground-truthing or sampling.
The seabed classification map is created by grouping seabed areas that are alike. Areas where there is no multibeam data have either been filled by EUSeaMap (predictive broadscale habitat map) or have been left as unclassified.
Sediments have been classified to the European Nature Information System (EUNIS), Marine Strategy Framework Directive (MSFD) Benthic Broad Habitat Types (BBHT), Folk (5 Themes) and European Marine Observation and Data Network (EMODnet) classification systems.
It is a vector dataset. Vector data portrays the world using points, lines and polygons (areas).
The sediment data is shown as polygons. Each polygon holds information on the classification for EUNIS, MSFD BBHT, Folk, substrate (EMODnet), biozone (EMODnet), data source and resolution.
The dataset was mapped as part of the Irish National Seabed Survey (INSS) and INFOMAR (Integrated Mapping for the Sustainable Development of Ireland’s Marine Resource).
Map Name: IE_GSI_MI_Seabed_Sediment_Classification_IE_Waters_WGS84
Legend
All Layers and Tables
Layers:
Description: Research ships working at sea map the seafloor. The ships collect bathymetry data. Bathymetry is the measurement of how deep the sea is. Bathymetry is the study of the shape and features of the seabed. The name comes from Greek words meaning "deep" and “measure". Backscatter is the measurement of how hard the seabed is.Bathymetry and backscatter data are collected on board boats working at sea. The boats use special equipment called a multibeam echosounder. A multibeam echosounder is a type of sonar that is used to map the seabed. Sound waves are emitted in a fan shape beneath the boat. The amount of time it takes for the sound waves to bounce off the bottom of the sea and return to a receiver is used to find out the water depth. The strength of the sound wave is used to find out how hard the bottom of the sea is. A strong sound wave indicates a hard surface (rocks, gravel), and a weak signal indicates a soft surface (silt, mud). The word backscatter comes from the fact that different bottom types “scatter” sound waves differently.Using the equipment also allows predictions as to the type of material present on the seabed e.g. rocks, pebbles, sand, mud. To confirm this, sediment samples are taken from the seabed. This process is called ground-truthing or sampling.The seabed classification map is created by grouping seabed areas that are alike. Areas where there is no multibeam data have either been filled by EUSeaMap (predictive broadscale habitat map) or have been left as unclassified. Sediments have been classified to the European Nature Information System (EUNIS), Marine Strategy Framework Directive (MSFD) Benthic Broad Habitat Types (BBHT), Folk (5 Themes) and European Marine Observation and Data Network (EMODnet) classification systems. It is a vector dataset. Vector data portrays the world using points, lines and polygons (areas). The sediment data is shown as polygons. Each polygon holds information on the classification for EUNIS, MSFD BBHT, Folk, substrate (EMODnet), biozone (EMODnet), data source and resolution.The dataset was mapped as part of the Irish National Seabed Survey (INSS) and INFOMAR (Integrated Mapping for the Sustainable Development of Ireland’s Marine Resource).
Service Item Id: 9906d8aaf3f346c69030d429fb124b26
Copyright Text: Geological Survey Ireland & Marine Institute
Spatial Reference:
102100
(3857)
Single Fused Map Cache: true
Tile Info:
- Height: 256
- Width: 256
- DPI: 96
-
Levels of Detail: 20
-
Level ID: 0
[ Start Tile, End Tile ]
- Resolution: 156543.03392800014
- Scale: 5.91657527591555E8
-
Level ID: 1
[ Start Tile, End Tile ]
- Resolution: 78271.51696399994
- Scale: 2.95828763795777E8
-
Level ID: 2
[ Start Tile, End Tile ]
- Resolution: 39135.75848200009
- Scale: 1.47914381897889E8
-
Level ID: 3
[ Start Tile, End Tile ]
- Resolution: 19567.87924099992
- Scale: 7.3957190948944E7
-
Level ID: 4
[ Start Tile, End Tile ]
- Resolution: 9783.93962049996
- Scale: 3.6978595474472E7
-
Level ID: 5
[ Start Tile, End Tile ]
- Resolution: 4891.96981024998
- Scale: 1.8489297737236E7
- Format: PNG
- Compression Quality: 0.0
- Origin: X: -2.0037508342787E7
Y: 2.0037508342787E7
- Spatial Reference: 102100
(3857)
Initial Extent:
XMin: -2891658.624072109
YMin: 5348442.320526394
XMax: -502888.0856488833
YMax: 8616841.20602431
Spatial Reference: 102100
Full Extent:
XMin: -2783078.1450528703
YMin: 5914912.237942995
XMax: -611468.5646681208
YMax: 7835433.619822466
Spatial Reference: 102100
Units: esriMeters
Supported Image Format Types: PNG32,PNG24,PNG,JPG,DIB,TIFF,EMF,PS,PDF,GIF,SVG,SVGZ,BMP
Document Info:
Title: IE_GSI_MI_Seabed_Sediment_Classification_IE_Waters_WGS84
Author:
Comments:
Subject:
Category:
Keywords: Ireland,IE/GSI,IE/MI,Geology,Marine Geology,seabed,seafloor,INFOMAR,Irish National Seabed Survey,Classification,EUNIS,European Nature Information System,Marine Strategy Framework Directive,MSFD,) Benthic Broad Habitat Types,BBHT,Folk,substrate,sediment,EMODnet,European Marine Observation and Data Network,substrate,EUSeaMap
AntialiasingMode: Fast
TextAntialiasingMode: Force
Supports Dynamic Layers: false
MaxRecordCount: 2000
MaxImageHeight: 4096
MaxImageWidth: 4096
Supported Query Formats: JSON, geoJSON, PBF
Supports Query Data Elements: true
Min Scale: 5.91657527591555E8
Max Scale: 4513.988705
Min LOD: 0
Max LOD: 17
Supports Datum Transformation: true
Child Resources:
Info
Supported Operations:
Export Map
Identify
QueryDomains
QueryLegends
Find
Return Updates